{"text_format":"1","workbook":"xlsx","n_sheets":5,"sheets":["Foglio1","Ammortamento","Progressivo","code","button"],"not_rendered":{"charts":0,"images":0,"macros":1,"external_links":0,"defined_names":1,"comments":0,"pivot_tables":0},"unopened":[],"bounds":{"document_bytes":16777216,"sheet_cells":100000,"rows_first":2000,"rows_last":500,"rows_between":2000,"halvings":0,"cell_chars":16384,"cell_head_chars":4096},"cells_cut":0,"cells_raw":0,"read":"whole","date_system":"1900"}

{"sheet":"Foglio1","index":0,"n_rows":48,"n_cols":10,"rows_kept":48,"cut":false,"hidden":false,"merged":[[0,2,0,8],[47,1,47,3],[19,1,19,3],[26,1,26,3],[46,1,46,3],[28,1,28,3],[21,1,21,3],[22,1,22,3],[23,1,23,3],[32,1,32,3],[38,1,38,3],[37,1,37,3],[35,1,35,3],[36,1,36,3],[33,1,33,3],[39,1,39,3],[15,1,15,3],[16,1,16,3],[2,2,2,8],[14,1,14,3],[12,2,12,8],[11,0,11,9],[6,6,6,7],[6,2,6,3],[8,6,8,7],[8,2,8,3],[10,2,10,7],[45,1,45,3],[42,1,42,3],[43,1,43,3],[17,1,17,3],[29,1,29,3],[30,1,30,3],[31,1,31,3],[18,1,18,3],[25,1,25,3],[24,1,24,3],[40,1,40,3],[44,1,44,3]]}
[null,null,"PIANO DI AMMORTAMENTO DI FINANZIAMENTO O DI MUTUO (massimo 30 anni)"]
[]
[null,null,"INSERIRE I DATI NELLE CASELLE        Capitale = €          Interessi = %          Tempo = anni"]
[]
[null,null,"CAPITALE","C = €",1,"r = %",null,"t = anni"]
[]
[null,null,"Rata mensile =",null,{"$f":"IF(I5=0,0,IF(I5>0,Ammortamento!G3))","v":0},null,"Totale rate annue =",null,{"$f":"E7*12","v":0}]
[]
[null,null,"Quota Capitale =",null,{"$f":"E5","v":1},null,"Totale quota  Interessi =",null,{"$f":"I11-E9","v":-1}]
[]
[null,null,"Totale importo Capitale (C) + interessi (r) mutuo o finanziamento alla fine del tempo (t) =",null,null,null,null,null,{"$f":"IF(tf=1,Progressivo!C3,IF(tf=2,Progressivo!C4,IF(tf=3,Progressivo!C5,IF(tf=4,Progressivo!C6,IF(tf=5,Progressivo!C7,IF(tf=6,Progressivo!C8,IF(tf=7,Progressivo!C9,IF(tf=8,Progressivo!C10,IF(tf=9,Progressivo!C11,IF(tf=10,Progressivo!C12,IF(tf=11,Progressivo!C13,IF(tf=12,Progressivo!C14,IF(tf=13,Progressivo!C15,IF(tf=14,Progressivo!C16,IF(tf=15,Progressivo!C17,IF(tf=16,Progressivo!C18,IF(tf=17,Progressivo!C19,IF(tf=18,Progressivo!C20,IF(tf=19,Progressivo!C21,IF(tf=20,Progressivo!C22,IF(tf=21,Progressivo!C23,IF(tf=22,Progressivo!C24,IF(tf=23,Progressivo!C25,IF(tf=24,Progressivo!C26,IF(tf=25,Progressivo!C27,IF(tf=26,Progressivo!C28,IF(tf=27,Progressivo!C29,IF(tf=28,Progressivo!C30,IF(tf=29,Progressivo!C31,IF(tf=30,Progressivo!C32,))))))))))))))))))))))))))))))","v":0}]
[]
[null,null,"VEDI DETTAGLI"]
[]
[null,"DESCRIZIONE",null,null,"1° ANNO","2° ANNO","3° ANNO","4° ANNO","5° ANNO","6° ANNO"]
[null,"QUOTA CAPITALE ANNUO",null,null,{"$f":"SUMIF(Ammortamento!E7:E18,\">0\")","v":0},{"$f":"IF(tf<2,0,IF(tf>1,Progressivo!G4))","v":0},{"$f":"IF(tf<3,0,IF(tf>2,Progressivo!G5))","v":0},{"$f":"IF(tf<4,0,IF(tf>3,Progressivo!G6))","v":0},{"$f":"IF(tf<5,0,IF(tf>4,Progressivo!G7))","v":0},{"$f":"IF(tf<6,0,IF(tf>5,Progressivo!G8))","v":0}]
[null,"QUOTA INTERESSI ANNUI",null,null,{"$f":"IF(I5=0,0,IF(I5>0,SUM(Ammortamento!D7:D18)))","v":0},{"$f":"SUMIF(Ammortamento!D19:D30,\">0\")","v":0},{"$f":"SUMIF(Ammortamento!D31:D42,\">0\")","v":0},{"$f":"SUMIF(Ammortamento!D43:D54,\">0\")","v":0},{"$f":"SUMIF(Ammortamento!D55:D66,\">0\")","v":0},{"$f":"SUMIF(Ammortamento!D67:D78,\">0\")","v":0}]
[null,"QUOTA CAPITALE PROGRESSIVO",null,null,{"$f":"E16","v":0},{"$f":"IF(F16>0,F16+E18,IF(F16<1,0))","v":0},{"$f":"IF(G16>0,G16+F18,IF(G16<1,0))","v":0},{"$f":"IF(H16>0,H16+G18,IF(H16<1,0))","v":0},{"$f":"IF(I16>0,I16+H18,IF(I16<1,0))","v":0},{"$f":"IF(J16>0,J16+I18,IF(J16<1,0))","v":0}]
[null,"QUOTA INTERESSI PROGRESSIVI",null,null,{"$f":"E17","v":0},{"$f":"IF(F16>0,F17+E19,IF(F16<1,0))","v":0},{"$f":"IF(G16>0,G17+F19,IF(G16<1,0))","v":0},{"$f":"IF(H16>0,H17+G19,IF(H16<1,0))","v":0},{"$f":"IF(I16>0,I17+H19,IF(I16<1,0))","v":0},{"$f":"IF(J16>0,J17+I19,IF(J16<1,0))","v":0}]
[null,"QUOTA RATE PROGRESSIVE",null,null,{"$f":"E18+E19","v":0},{"$f":"F18+F19","v":0},{"$f":"G18+G19","v":0},{"$f":"H18+H19","v":0},{"$f":"I18+I19","v":0},{"$f":"J18+J19","v":0}]
[]
[null,"DESCRIZIONE",null,null,"7° ANNO","8° ANNO","9° ANNO","10° ANNO","11° ANNO","12° ANNO"]
[null,"QUOTA CAPITALE ANNUO",null,null,{"$f":"IF(tf<7,0,IF(tf>6,Progressivo!G9))","v":0},{"$f":"IF(tf<8,0,IF(tf>7,Progressivo!G10))","v":0},{"$f":"IF(tf<9,0,IF(tf>8,Progressivo!G11))","v":0},{"$f":"IF(tf<10,0,IF(tf>9,Progressivo!G12))","v":0},{"$f":"IF(tf<11,0,IF(tf>10,Progressivo!G13))","v":0},{"$f":"IF(tf<12,0,IF(tf>11,Progressivo!G14))","v":0}]
[null,"QUOTA INTERESSi ANNUI",null,null,{"$f":"SUMIF(Ammortamento!D79:D90,\">0\")","v":0},{"$f":"SUMIF(Ammortamento!D91:D102,\">0\")","v":0},{"$f":"SUMIF(Ammortamento!D103:D114,\">0\")","v":0},{"$f":"SUMIF(Ammortamento!D115:D126,\">0\")","v":0},{"$f":"SUMIF(Ammortamento!D127:D138,\">0\")","v":0},{"$f":"SUMIF(Ammortamento!D139:D150,\">0\")","v":0}]
[null,"QUOTA CAPITALE PROGRESSIVO",null,null,{"$f":"IF(E23>0,E23+J18,IF(E23<1,0))","v":0},{"$f":"IF(F23>0,F23+E25,IF(F23<1,0))","v":0},{"$f":"IF(G23>0,G23+F25,IF(G23<1,0))","v":0},{"$f":"IF(H23>0,H23+G25,IF(H23<1,0))","v":0},{"$f":"IF(I23>0,I23+H25,IF(I23<1,0))","v":0},{"$f":"IF(J23>0,J23+I25,IF(J23<1,0))","v":0}]
[null,"QUOTA INTERESSI PROGRESSIVI",null,null,{"$f":"IF(E23>0,E24+J19,IF(E23<1,0))","v":0},{"$f":"IF(F23>0,F24+E26,IF(F23<1,0))","v":0},{"$f":"IF(G23>0,G24+F26,IF(G23<1,0))","v":0},{"$f":"IF(H23>0,H24+G26,IF(H23<1,0))","v":0},{"$f":"IF(I23>0,I24+H26,IF(I23<1,0))","v":0},{"$f":"IF(J23>0,J24+I26,IF(J23<1,0))","v":0}]
[null,"QUOTA RATE PROGRESSIVE",null,null,{"$f":"E25+E26","v":0},{"$f":"F25+F26","v":0},{"$f":"G25+G26","v":0},{"$f":"H25+H26","v":0},{"$f":"I25+I26","v":0},{"$f":"J25+J26","v":0}]
[]
[null,"DESCRIZIONE",null,null,"13° ANNO","14° ANNO","15° ANNO","16° ANNO","17° ANNO","18° ANNO"]
[null,"QUOTA CAPITALE ANNUO",null,null,{"$f":"IF($I$5<13,0,IF($I$5>12,Progressivo!$G15))","v":0},{"$f":"IF($I$5<14,0,IF($I$5>13,Progressivo!$G16))","v":0},{"$f":"IF($I$5<15,0,IF($I$5>14,Progressivo!$G17))","v":0},{"$f":"IF($I$5<16,0,IF($I$5>15,Progressivo!$G18))","v":0},{"$f":"IF($I$5<17,0,IF($I$5>16,Progressivo!$G19))","v":0},{"$f":"IF($I$5<18,0,IF($I$5>16,Progressivo!$G20))","v":0}]
[null,"QUOTA INTERESSI ANNUI",null,null,{"$f":"SUMIF(Ammortamento!D151:D162,\">0\")","v":0},{"$f":"SUMIF(Ammortamento!D163:D174,\">0\")","v":0},{"$f":"SUMIF(Ammortamento!D175:D186,\">0\")","v":0},{"$f":"SUMIF(Ammortamento!D187:D198,\">0\")","v":0},{"$f":"SUMIF(Ammortamento!D199:D210,\">0\")","v":0},{"$f":"SUMIF(Ammortamento!D211:D222,\">0\")","v":0}]
[null,"QUOTA CAPITALE PROGRESSIVO",null,null,{"$f":"IF(E30>0,E30+J25,IF(E30<1,0))","v":0},{"$f":"IF(F30>0,F30+E32,IF(F30<1,0))","v":0},{"$f":"IF(G30>0,G30+F32,IF(G30<1,0))","v":0},{"$f":"IF(H30>0,H30+G32,IF(H30<1,0))","v":0},{"$f":"IF(I30>0,I30+H32,IF(I30<1,0))","v":0},{"$f":"IF(J30>0,J30+I32,IF(J30<1,0))","v":0}]
[null,"QUOTA INTERESSI PROGRESSIVI",null,null,{"$f":"IF(E30>0,E31+J26,IF(E30<1,0))","v":0},{"$f":"IF(F30>0,F31+E33,IF(F30<1,0))","v":0},{"$f":"IF(G30>0,G31+F33,IF(G30<1,0))","v":0},{"$f":"IF(H30>0,H31+G33,IF(H30<1,0))","v":0},{"$f":"IF(I30>0,I31+H33,IF(I30<1,0))","v":0},{"$f":"IF(J30>0,J31+I33,IF(J30<1,0))","v":0}]
[null,"QUOTA RATE PROGRESSIVE",null,null,{"$f":"E32+E33","v":0},{"$f":"F32+F33","v":0},{"$f":"G32+G33","v":0},{"$f":"H32+H33","v":0},{"$f":"I32+I33","v":0},{"$f":"J32+J33","v":0}]
[]
[null,"DESCRIZIONE",null,null,"19° ANNO","20° ANNO","21° ANNO","22° ANNO","23° ANNO","24° ANNO"]
[null,"QUOTA CAPITALE ANNUO",null,null,{"$f":"IF($I$5<19,0,IF($I$5>18,Progressivo!$G21))","v":0},{"$f":"IF($I$5<20,0,IF($I$5>19,Progressivo!$G22))","v":0},{"$f":"IF($I$5<21,0,IF($I$5>20,Progressivo!$G23))","v":0},{"$f":"IF($I$5<22,0,IF($I$5>21,Progressivo!$G24))","v":0},{"$f":"IF($I$5<23,0,IF($I$5>22,Progressivo!$G25))","v":0},{"$f":"IF($I$5<24,0,IF($I$5>23,Progressivo!$G26))","v":0}]
[null,"QUOTA INTERESSI ANNUI",null,null,{"$f":"SUMIF(Ammortamento!$D223:$D234,\">0\")","v":0},{"$f":"SUMIF(Ammortamento!$D235:$D246,\">0\")","v":0},{"$f":"SUMIF(Ammortamento!$D247:$D258,\">0\")","v":0},{"$f":"SUMIF(Ammortamento!$D259:$D270,\">0\")","v":0},{"$f":"SUMIF(Ammortamento!$D271:$D282,\">0\")","v":0},{"$f":"SUMIF(Ammortamento!$D283:$D294,\">0\")","v":0}]
[null,"QUOTA CAPITALE PROGRESSIVO",null,null,{"$f":"IF(E37>0,E37+J32,IF(E37<1,0))","v":0},{"$f":"IF(F37>0,F37+E39,IF(F37<1,0))","v":0},{"$f":"IF(G37>0,G37+F39,IF(G37<1,0))","v":0},{"$f":"IF(H37>0,H37+G39,IF(H37<1,0))","v":0},{"$f":"IF(I37>0,I37+H39,IF(I37<1,0))","v":0},{"$f":"IF(J37>0,J37+I39,IF(J37<1,0))","v":0}]
[null,"QUOTA INTERESSI PROGRESSIVI",null,null,{"$f":"IF(E37>0,E38+J33,IF(E37<1,0))","v":0},{"$f":"IF(F37>0,F38+E40,IF(F37<1,0))","v":0},{"$f":"IF(G37>0,G38+F40,IF(G37<1,0))","v":0},{"$f":"IF(H37>0,H38+G40,IF(H37<1,0))","v":0},{"$f":"IF(I37>0,I38+H40,IF(I37<1,0))","v":0},{"$f":"IF(J37>0,J38+I40,IF(J37<1,0))","v":0}]
[null,"QUOTA RATE PROGRESSIVE",null,null,{"$f":"E39+E40","v":0},{"$f":"F39+F40","v":0},{"$f":"G39+G40","v":0},{"$f":"H39+H40","v":0},{"$f":"I39+I40","v":0},{"$f":"J39+J40","v":0}]
[]
[null,"DESCRIZIONE",null,null,"25° ANNO","26° ANNO","27° ANNO","28° ANNO","29° ANNO","30° ANNO"]
[null,"QUOTA CAPITALE ANNUO",null,null,{"$f":"IF($I$5<25,0,IF($I$5>24,Progressivo!$G27))","v":0},{"$f":"IF($I$5<26,0,IF($I$5>25,Progressivo!$G28))","v":0},{"$f":"IF($I$5<27,0,IF($I$5>26,Progressivo!$G29))","v":0},{"$f":"IF($I$5<28,0,IF($I$5>27,Progressivo!$G30))","v":0},{"$f":"IF($I$5<29,0,IF($I$5>28,Progressivo!$G31))","v":0},{"$f":"IF($I$5<30,0,IF($I$5>29,Progressivo!$G32))","v":0}]
[null,"QUOTA INTERESSI ANNUI",null,null,{"$f":"SUMIF(Ammortamento!$D295:$D306,\">0\")","v":0},{"$f":"SUMIF(Ammortamento!$D307:$D318,\">0\")","v":0},{"$f":"SUMIF(Ammortamento!$D319:$D330,\">0\")","v":0},{"$f":"SUMIF(Ammortamento!$D331:$D342,\">0\")","v":0},{"$f":"SUMIF(Ammortamento!$D343:$D354,\">0\")","v":0},{"$f":"SUMIF(Ammortamento!$D355:$D366,\">0\")","v":0}]
[null,"QUOTA CAPITALE PROGRESSIVO",null,null,{"$f":"IF(E44>0,E44+J39,IF(E44<1,0))","v":0},{"$f":"IF(F44>0,F44+E46,IF(F44<1,0))","v":0},{"$f":"IF(G44>0,G44+F46,IF(G44<1,0))","v":0},{"$f":"IF(H44>0,H44+G46,IF(H44<1,0))","v":0},{"$f":"IF(I44>0,I44+H46,IF(I44<1,0))","v":0},{"$f":"IF(J44>0,J44+I46,IF(J44<1,0))","v":0}]
[null,"QUOTA INTERESSI PROGRESSIVI",null,null,{"$f":"IF(E44>0,E45+J40,IF(E44<1,0))","v":0},{"$f":"IF(F44>0,F45+E47,IF(F44<1,0))","v":0},{"$f":"IF(G44>0,G45+F47,IF(G44<1,0))","v":0},{"$f":"IF(H44>0,H45+G47,IF(H44<1,0))","v":0},{"$f":"IF(I44>0,I45+H47,IF(I44<1,0))","v":0},{"$f":"IF(J44>0,J45+I47,IF(J44<1,0))","v":0}]
[null,"QUOTA RATE PROGRESSIVE",null,null,{"$f":"E46+E47","v":0},{"$f":"F46+F47","v":0},{"$f":"G46+G47","v":0},{"$f":"H46+H47","v":0},{"$f":"I46+I47","v":0},{"$f":"J46+J47","v":0}]

{"sheet":"Ammortamento","index":1,"n_rows":366,"n_cols":8,"rows_kept":366,"cut":false,"hidden":false,"merged":[[1,6,1,7],[2,6,2,7]]}
[null,null,"Piano di ammortamento di un mutuo bancario (versione EURO)"]
[null,"capitale",{"$f":"Foglio1!E5","v":1},null,"durata (anni)",{"$f":"Foglio1!I5","v":0},"rata mensile"]
[null,"tasso annuo",{"$f":"Foglio1!G5/100","v":0},null,"pagamenti per anno",12,{"$f":"PMT(C3/F3,F4,-C2)","v":{"$error":"#NUM!"}}]
[null,"data d'inizio","2001-01-01",null,"n° pagamenti ",{"$f":"F2*F3","v":0}]
["rata","data","prestito","quota","quota","debito","totale","totale"]
[null,null,null,"interesse","capitale","residuo","interesse","pagato"]
[1,{"$f":"C4","v":"2001-01-01"},{"$f":"C2","v":1},{"$f":"C$3/F$3*C7","v":0},{"$f":"G$3-D7","v":{"$error":"#NUM!"}},{"$f":"C7-E7","v":{"$error":"#NUM!"}},{"$f":"D7","v":0},{"$f":"D7+E7","v":{"$error":"#NUM!"}}]
[{"$f":"A7+1","v":2},{"$f":"DATE((YEAR(B7)-1900),MONTH(B7)+1,1)","v":"2001-02-01"},{"$f":"F7","v":{"$error":"#NUM!"}},{"$error":"#NUM!"},{"$error":"#NUM!"},{"$error":"#NUM!"},{"$f":"G7+D8","v":{"$error":"#NUM!"}},{"$f":"D8+E8+H7","v":{"$error":"#NUM!"}}]
[3,"2001-03-01",{"$error":"#NUM!"},{"$error":"#NUM!"},{"$error":"#NUM!"},{"$error":"#NUM!"},{"$error":"#NUM!"},{"$error":"#NUM!"}]
[4,"2001-04-01",{"$error":"#NUM!"},{"$error":"#NUM!"},{"$error":"#NUM!"},{"$error":"#NUM!"},{"$error":"#NUM!"},{"$error":"#NUM!"}]
[5,"2001-05-01",{"$error":"#NUM!"},{"$error":"#NUM!"},{"$error":"#NUM!"},{"$error":"#NUM!"},{"$error":"#NUM!"},{"$error":"#NUM!"}]
[6,"2001-06-01",{"$error":"#NUM!"},{"$error":"#NUM!"},{"$error":"#NUM!"},{"$error":"#NUM!"},{"$error":"#NUM!"},{"$error":"#NUM!"}]
[7,"2001-07-01",{"$error":"#NUM!"},{"$error":"#NUM!"},{"$error":"#NUM!"},{"$error":"#NUM!"},{"$error":"#NUM!"},{"$error":"#NUM!"}]
[8,"2001-08-01",{"$error":"#NUM!"},{"$error":"#NUM!"},{"$error":"#NUM!"},{"$error":"#NUM!"},{"$error":"#NUM!"},{"$error":"#NUM!"}]
[9,"2001-09-01",{"$error":"#NUM!"},{"$error":"#NUM!"},{"$error":"#NUM!"},{"$error":"#NUM!"},{"$error":"#NUM!"},{"$error":"#NUM!"}]
[10,"2001-10-01",{"$error":"#NUM!"},{"$error":"#NUM!"},{"$error":"#NUM!"},{"$error":"#NUM!"},{"$error":"#NUM!"},{"$error":"#NUM!"}]
[11,"2001-11-01",{"$error":"#NUM!"},{"$error":"#NUM!"},{"$error":"#NUM!"},{"$error":"#NUM!"},{"$error":"#NUM!"},{"$error":"#NUM!"}]
[12,"2001-12-01",{"$error":"#NUM!"},{"$error":"#NUM!"},{"$error":"#NUM!"},{"$error":"#NUM!"},{"$error":"#NUM!"},{"$error":"#NUM!"}]
[13,"2002-01-01",{"$error":"#NUM!"},{"$error":"#NUM!"},{"$error":"#NUM!"},{"$error":"#NUM!"},{"$error":"#NUM!"},{"$error":"#NUM!"}]
[14,"2002-02-01",{"$error":"#NUM!"},{"$error":"#NUM!"},{"$error":"#NUM!"},{"$error":"#NUM!"},{"$error":"#NUM!"},{"$error":"#NUM!"}]
[15,"2002-03-01",{"$error":"#NUM!"},{"$error":"#NUM!"},{"$error":"#NUM!"},{"$error":"#NUM!"},{"$error":"#NUM!"},{"$error":"#NUM!"}]
[16,"2002-04-01",{"$error":"#NUM!"},{"$error":"#NUM!"},{"$error":"#NUM!"},{"$error":"#NUM!"},{"$error":"#NUM!"},{"$error":"#NUM!"}]
[17,"2002-05-01",{"$error":"#NUM!"},{"$error":"#NUM!"},{"$error":"#NUM!"},{"$error":"#NUM!"},{"$error":"#NUM!"},{"$error":"#NUM!"}]
[18,"2002-06-01",{"$error":"#NUM!"},{"$error":"#NUM!"},{"$error":"#NUM!"},{"$error":"#NUM!"},{"$error":"#NUM!"},{"$error":"#NUM!"}]
[19,"2002-07-01",{"$error":"#NUM!"},{"$error":"#NUM!"},{"$error":"#NUM!"},{"$error":"#NUM!"},{"$error":"#NUM!"},{"$error":"#NUM!"}]
[20,"2002-08-01",{"$error":"#NUM!"},{"$error":"#NUM!"},{"$error":"#NUM!"},{"$error":"#NUM!"},{"$error":"#NUM!"},{"$error":"#NUM!"}]
[21,"2002-09-01",{"$error":"#NUM!"},{"$error":"#NUM!"},{"$error":"#NUM!"},{"$error":"#NUM!"},{"$error":"#NUM!"},{"$error":"#NUM!"}]
[22,"2002-10-01",{"$error":"#NUM!"},{"$error":"#NUM!"},{"$error":"#NUM!"},{"$error":"#NUM!"},{"$error":"#NUM!"},{"$error":"#NUM!"}]
[23,"2002-11-01",{"$error":"#NUM!"},{"$error":"#NUM!"},{"$error":"#NUM!"},{"$error":"#NUM!"},{"$error":"#NUM!"},{"$error":"#NUM!"}]
[24,"2002-12-01",{"$error":"#NUM!"},{"$error":"#NUM!"},{"$error":"#NUM!"},{"$error":"#NUM!"},{"$error":"#NUM!"},{"$error":"#NUM!"}]
[25,"2003-01-01",{"$error":"#NUM!"},{"$error":"#NUM!"},{"$error":"#NUM!"},{"$error":"#NUM!"},{"$error":"#NUM!"},{"$error":"#NUM!"}]
[26,"2003-02-01",{"$error":"#NUM!"},{"$error":"#NUM!"},{"$error":"#NUM!"},{"$error":"#NUM!"},{"$error":"#NUM!"},{"$error":"#NUM!"}]
[27,"2003-03-01",{"$error":"#NUM!"},{"$error":"#NUM!"},{"$error":"#NUM!"},{"$error":"#NUM!"},{"$error":"#NUM!"},{"$error":"#NUM!"}]
[28,"2003-04-01",{"$error":"#NUM!"},{"$error":"#NUM!"},{"$error":"#NUM!"},{"$error":"#NUM!"},{"$error":"#NUM!"},{"$error":"#NUM!"}]
[29,"2003-05-01",{"$error":"#NUM!"},{"$error":"#NUM!"},{"$error":"#NUM!"},{"$error":"#NUM!"},{"$error":"#NUM!"},{"$error":"#NUM!"}]
[30,"2003-06-01",{"$error":"#NUM!"},{"$error":"#NUM!"},{"$error":"#NUM!"},{"$error":"#NUM!"},{"$error":"#NUM!"},{"$error":"#NUM!"}]
[31,"2003-07-01",{"$error":"#NUM!"},{"$error":"#NUM!"},{"$error":"#NUM!"},{"$error":"#NUM!"},{"$error":"#NUM!"},{"$error":"#NUM!"}]
[32,"2003-08-01",{"$error":"#NUM!"},{"$error":"#NUM!"},{"$error":"#NUM!"},{"$error":"#NUM!"},{"$error":"#NUM!"},{"$error":"#NUM!"}]
[33,"2003-09-01",{"$error":"#NUM!"},{"$error":"#NUM!"},{"$error":"#NUM!"},{"$error":"#NUM!"},{"$error":"#NUM!"},{"$error":"#NUM!"}]
[34,"2003-10-01",{"$error":"#NUM!"},{"$error":"#NUM!"},{"$error":"#NUM!"},{"$error":"#NUM!"},{"$error":"#NUM!"},{"$error":"#NUM!"}]
[35,"2003-11-01",{"$error":"#NUM!"},{"$error":"#NUM!"},{"$error":"#NUM!"},{"$error":"#NUM!"},{"$error":"#NUM!"},{"$error":"#NUM!"}]
[36,"2003-12-01",{"$error":"#NUM!"},{"$error":"#NUM!"},{"$error":"#NUM!"},{"$error":"#NUM!"},{"$error":"#NUM!"},{"$error":"#NUM!"}]
[37,"2004-01-01",{"$error":"#NUM!"},{"$error":"#NUM!"},{"$error":"#NUM!"},{"$error":"#NUM!"},{"$error":"#NUM!"},{"$error":"#NUM!"}]
[38,"2004-02-01",{"$error":"#NUM!"},{"$error":"#NUM!"},{"$error":"#NUM!"},{"$error":"#NUM!"},{"$error":"#NUM!"},{"$error":"#NUM!"}]
[39,"2004-03-01",{"$error":"#NUM!"},{"$error":"#NUM!"},{"$error":"#NUM!"},{"$error":"#NUM!"},{"$error":"#NUM!"},{"$error":"#NUM!"}]
[40,"2004-04-01",{"$error":"#NUM!"},{"$error":"#NUM!"},{"$error":"#NUM!"},{"$error":"#NUM!"},{"$error":"#NUM!"},{"$error":"#NUM!"}]
[41,"2004-05-01",{"$error":"#NUM!"},{"$error":"#NUM!"},{"$error":"#NUM!"},{"$error":"#NUM!"},{"$error":"#NUM!"},{"$error":"#NUM!"}]
[42,"2004-06-01",{"$error":"#NUM!"},{"$error":"#NUM!"},{"$error":"#NUM!"},{"$error":"#NUM!"},{"$error":"#NUM!"},{"$error":"#NUM!"}]
[43,"2004-07-01",{"$error":"#NUM!"},{"$error":"#NUM!"},{"$error":"#NUM!"},{"$error":"#NUM!"},{"$error":"#NUM!"},{"$error":"#NUM!"}]
[44,"2004-08-01",{"$error":"#NUM!"},{"$error":"#NUM!"},{"$error":"#NUM!"},{"$error":"#NUM!"},{"$error":"#NUM!"},{"$error":"#NUM!"}]
[45,"2004-09-01",{"$error":"#NUM!"},{"$error":"#NUM!"},{"$error":"#NUM!"},{"$error":"#NUM!"},{"$error":"#NUM!"},{"$error":"#NUM!"}]
[46,"2004-10-01",{"$error":"#NUM!"},{"$error":"#NUM!"},{"$error":"#NUM!"},{"$error":"#NUM!"},{"$error":"#NUM!"},{"$error":"#NUM!"}]
[47,"2004-11-01",{"$error":"#NUM!"},{"$error":"#NUM!"},{"$error":"#NUM!"},{"$error":"#NUM!"},{"$error":"#NUM!"},{"$error":"#NUM!"}]
[48,"2004-12-01",{"$error":"#NUM!"},{"$error":"#NUM!"},{"$error":"#NUM!"},{"$error":"#NUM!"},{"$error":"#NUM!"},{"$error":"#NUM!"}]
[49,"2005-01-01",{"$error":"#NUM!"},{"$error":"#NUM!"},{"$error":"#NUM!"},{"$error":"#NUM!"},{"$error":"#NUM!"},{"$error":"#NUM!"}]
[50,"2005-02-01",{"$error":"#NUM!"},{"$error":"#NUM!"},{"$error":"#NUM!"},{"$error":"#NUM!"},{"$error":"#NUM!"},{"$error":"#NUM!"}]
[51,"2005-03-01",{"$error":"#NUM!"},{"$error":"#NUM!"},{"$error":"#NUM!"},{"$error":"#NUM!"},{"$error":"#NUM!"},{"$error":"#NUM!"}]
[52,"2005-04-01",{"$error":"#NUM!"},{"$error":"#NUM!"},{"$error":"#NUM!"},{"$error":"#NUM!"},{"$error":"#NUM!"},{"$error":"#NUM!"}]
[53,"2005-05-01",{"$error":"#NUM!"},{"$error":"#NUM!"},{"$error":"#NUM!"},{"$error":"#NUM!"},{"$error":"#NUM!"},{"$error":"#NUM!"}]
[54,"2005-06-01",{"$error":"#NUM!"},{"$error":"#NUM!"},{"$error":"#NUM!"},{"$error":"#NUM!"},{"$error":"#NUM!"},{"$error":"#NUM!"}]
[55,"2005-07-01",{"$error":"#NUM!"},{"$error":"#NUM!"},{"$error":"#NUM!"},{"$error":"#NUM!"},{"$error":"#NUM!"},{"$error":"#NUM!"}]
[56,"2005-08-01",{"$error":"#NUM!"},{"$error":"#NUM!"},{"$error":"#NUM!"},{"$error":"#NUM!"},{"$error":"#NUM!"},{"$error":"#NUM!"}]
[57,"2005-09-01",{"$error":"#NUM!"},{"$error":"#NUM!"},{"$error":"#NUM!"},{"$error":"#NUM!"},{"$error":"#NUM!"},{"$error":"#NUM!"}]
[58,"2005-10-01",{"$error":"#NUM!"},{"$error":"#NUM!"},{"$error":"#NUM!"},{"$error":"#NUM!"},{"$error":"#NUM!"},{"$error":"#NUM!"}]
[59,"2005-11-01",{"$error":"#NUM!"},{"$error":"#NUM!"},{"$error":"#NUM!"},{"$error":"#NUM!"},{"$error":"#NUM!"},{"$error":"#NUM!"}]
[60,"2005-12-01",{"$error":"#NUM!"},{"$error":"#NUM!"},{"$error":"#NUM!"},{"$error":"#NUM!"},{"$error":"#NUM!"},{"$error":"#NUM!"}]
[61,"2006-01-01",{"$error":"#NUM!"},{"$error":"#NUM!"},{"$error":"#NUM!"},{"$error":"#NUM!"},{"$error":"#NUM!"},{"$error":"#NUM!"}]
[62,"2006-02-01",{"$error":"#NUM!"},{"$error":"#NUM!"},{"$error":"#NUM!"},{"$error":"#NUM!"},{"$error":"#NUM!"},{"$error":"#NUM!"}]
[63,"2006-03-01",{"$error":"#NUM!"},{"$error":"#NUM!"},{"$error":"#NUM!"},{"$error":"#NUM!"},{"$error":"#NUM!"},{"$error":"#NUM!"}]
[64,"2006-04-01",{"$error":"#NUM!"},{"$error":"#NUM!"},{"$error":"#NUM!"},{"$error":"#NUM!"},{"$error":"#NUM!"},{"$error":"#NUM!"}]
[65,"2006-05-01",{"$error":"#NUM!"},{"$f":"C$3/F$3*C71","v":{"$error":"#NUM!"}},{"$f":"G$3-D71","v":{"$error":"#NUM!"}},{"$f":"C71-E71","v":{"$error":"#NUM!"}},{"$error":"#NUM!"},{"$error":"#NUM!"}]
[{"$f":"A71+1","v":66},{"$f":"DATE((YEAR(B71)-1900),MONTH(B71)+1,1)","v":"2006-06-01"},{"$f":"F71","v":{"$error":"#NUM!"}},{"$error":"#NUM!"},{"$error":"#NUM!"},{"$error":"#NUM!"},{"$f":"G71+D72","v":{"$error":"#NUM!"}},{"$f":"D72+E72+H71","v":{"$error":"#NUM!"}}]
[67,"2006-07-01",{"$error":"#NUM!"},{"$error":"#NUM!"},{"$error":"#NUM!"},{"$error":"#NUM!"},{"$error":"#NUM!"},{"$error":"#NUM!"}]
[68,"2006-08-01",{"$error":"#NUM!"},{"$error":"#NUM!"},{"$error":"#NUM!"},{"$error":"#NUM!"},{"$error":"#NUM!"},{"$error":"#NUM!"}]
[69,"2006-09-01",{"$error":"#NUM!"},{"$error":"#NUM!"},{"$error":"#NUM!"},{"$error":"#NUM!"},{"$error":"#NUM!"},{"$error":"#NUM!"}]
[70,"2006-10-01",{"$error":"#NUM!"},{"$error":"#NUM!"},{"$error":"#NUM!"},{"$error":"#NUM!"},{"$error":"#NUM!"},{"$error":"#NUM!"}]
[71,"2006-11-01",{"$error":"#NUM!"},{"$error":"#NUM!"},{"$error":"#NUM!"},{"$error":"#NUM!"},{"$error":"#NUM!"},{"$error":"#NUM!"}]
[72,"2006-12-01",{"$error":"#NUM!"},{"$error":"#NUM!"},{"$error":"#NUM!"},{"$error":"#NUM!"},{"$error":"#NUM!"},{"$error":"#NUM!"}]
[73,"2007-01-01",{"$error":"#NUM!"},{"$error":"#NUM!"},{"$error":"#NUM!"},{"$error":"#NUM!"},{"$error":"#NUM!"},{"$error":"#NUM!"}]
[74,"2007-02-01",{"$error":"#NUM!"},{"$error":"#NUM!"},{"$error":"#NUM!"},{"$error":"#NUM!"},{"$error":"#NUM!"},{"$error":"#NUM!"}]
[75,"2007-03-01",{"$error":"#NUM!"},{"$error":"#NUM!"},{"$error":"#NUM!"},{"$error":"#NUM!"},{"$error":"#NUM!"},{"$error":"#NUM!"}]
[76,"2007-04-01",{"$error":"#NUM!"},{"$error":"#NUM!"},{"$error":"#NUM!"},{"$error":"#NUM!"},{"$error":"#NUM!"},{"$error":"#NUM!"}]
[77,"2007-05-01",{"$error":"#NUM!"},{"$error":"#NUM!"},{"$error":"#NUM!"},{"$error":"#NUM!"},{"$error":"#NUM!"},{"$error":"#NUM!"}]
[78,"2007-06-01",{"$error":"#NUM!"},{"$error":"#NUM!"},{"$error":"#NUM!"},{"$error":"#NUM!"},{"$error":"#NUM!"},{"$error":"#NUM!"}]
[79,"2007-07-01",{"$error":"#NUM!"},{"$error":"#NUM!"},{"$error":"#NUM!"},{"$error":"#NUM!"},{"$error":"#NUM!"},{"$error":"#NUM!"}]
[80,"2007-08-01",{"$error":"#NUM!"},{"$error":"#NUM!"},{"$error":"#NUM!"},{"$error":"#NUM!"},{"$error":"#NUM!"},{"$error":"#NUM!"}]
[81,"2007-09-01",{"$error":"#NUM!"},{"$error":"#NUM!"},{"$error":"#NUM!"},{"$error":"#NUM!"},{"$error":"#NUM!"},{"$error":"#NUM!"}]
[82,"2007-10-01",{"$error":"#NUM!"},{"$error":"#NUM!"},{"$error":"#NUM!"},{"$error":"#NUM!"},{"$error":"#NUM!"},{"$error":"#NUM!"}]
[83,"2007-11-01",{"$error":"#NUM!"},{"$error":"#NUM!"},{"$error":"#NUM!"},{"$error":"#NUM!"},{"$error":"#NUM!"},{"$error":"#NUM!"}]
[84,"2007-12-01",{"$error":"#NUM!"},{"$error":"#NUM!"},{"$error":"#NUM!"},{"$error":"#NUM!"},{"$error":"#NUM!"},{"$error":"#NUM!"}]
[85,"2008-01-01",{"$error":"#NUM!"},{"$error":"#NUM!"},{"$error":"#NUM!"},{"$error":"#NUM!"},{"$error":"#NUM!"},{"$error":"#NUM!"}]
[86,"2008-02-01",{"$error":"#NUM!"},{"$error":"#NUM!"},{"$error":"#NUM!"},{"$error":"#NUM!"},{"$error":"#NUM!"},{"$error":"#NUM!"}]
[87,"2008-03-01",{"$error":"#NUM!"},{"$error":"#NUM!"},{"$error":"#NUM!"},{"$error":"#NUM!"},{"$error":"#NUM!"},{"$error":"#NUM!"}]
[88,"2008-04-01",{"$error":"#NUM!"},{"$error":"#NUM!"},{"$error":"#NUM!"},{"$error":"#NUM!"},{"$error":"#NUM!"},{"$error":"#NUM!"}]
[89,"2008-05-01",{"$error":"#NUM!"},{"$error":"#NUM!"},{"$error":"#NUM!"},{"$error":"#NUM!"},{"$error":"#NUM!"},{"$error":"#NUM!"}]
[90,"2008-06-01",{"$error":"#NUM!"},{"$error":"#NUM!"},{"$error":"#NUM!"},{"$error":"#NUM!"},{"$error":"#NUM!"},{"$error":"#NUM!"}]
[91,"2008-07-01",{"$error":"#NUM!"},{"$error":"#NUM!"},{"$error":"#NUM!"},{"$error":"#NUM!"},{"$error":"#NUM!"},{"$error":"#NUM!"}]
[92,"2008-08-01",{"$error":"#NUM!"},{"$error":"#NUM!"},{"$error":"#NUM!"},{"$error":"#NUM!"},{"$error":"#NUM!"},{"$error":"#NUM!"}]
[93,"2008-09-01",{"$error":"#NUM!"},{"$error":"#NUM!"},{"$error":"#NUM!"},{"$error":"#NUM!"},{"$error":"#NUM!"},{"$error":"#NUM!"}]
[94,"2008-10-01",{"$error":"#NUM!"},{"$error":"#NUM!"},{"$error":"#NUM!"},{"$error":"#NUM!"},{"$error":"#NUM!"},{"$error":"#NUM!"}]
[95,"2008-11-01",{"$error":"#NUM!"},{"$error":"#NUM!"},{"$error":"#NUM!"},{"$error":"#NUM!"},{"$error":"#NUM!"},{"$error":"#NUM!"}]
[96,"2008-12-01",{"$error":"#NUM!"},{"$error":"#NUM!"},{"$error":"#NUM!"},{"$error":"#NUM!"},{"$error":"#NUM!"},{"$error":"#NUM!"}]
[97,"2009-01-01",{"$error":"#NUM!"},{"$error":"#NUM!"},{"$error":"#NUM!"},{"$error":"#NUM!"},{"$error":"#NUM!"},{"$error":"#NUM!"}]
[98,"2009-02-01",{"$error":"#NUM!"},{"$error":"#NUM!"},{"$error":"#NUM!"},{"$error":"#NUM!"},{"$error":"#NUM!"},{"$error":"#NUM!"}]
[99,"2009-03-01",{"$error":"#NUM!"},{"$error":"#NUM!"},{"$error":"#NUM!"},{"$error":"#NUM!"},{"$error":"#NUM!"},{"$error":"#NUM!"}]
[100,"2009-04-01",{"$error":"#NUM!"},{"$error":"#NUM!"},{"$error":"#NUM!"},{"$error":"#NUM!"},{"$error":"#NUM!"},{"$error":"#NUM!"}]
[101,"2009-05-01",{"$error":"#NUM!"},{"$error":"#NUM!"},{"$error":"#NUM!"},{"$error":"#NUM!"},{"$error":"#NUM!"},{"$error":"#NUM!"}]
[102,"2009-06-01",{"$error":"#NUM!"},{"$error":"#NUM!"},{"$error":"#NUM!"},{"$error":"#NUM!"},{"$error":"#NUM!"},{"$error":"#NUM!"}]
[103,"2009-07-01",{"$error":"#NUM!"},{"$error":"#NUM!"},{"$error":"#NUM!"},{"$error":"#NUM!"},{"$error":"#NUM!"},{"$error":"#NUM!"}]
[104,"2009-08-01",{"$error":"#NUM!"},{"$error":"#NUM!"},{"$error":"#NUM!"},{"$error":"#NUM!"},{"$error":"#NUM!"},{"$error":"#NUM!"}]
[105,"2009-09-01",{"$error":"#NUM!"},{"$error":"#NUM!"},{"$error":"#NUM!"},{"$error":"#NUM!"},{"$error":"#NUM!"},{"$error":"#NUM!"}]
[106,"2009-10-01",{"$error":"#NUM!"},{"$error":"#NUM!"},{"$error":"#NUM!"},{"$error":"#NUM!"},{"$error":"#NUM!"},{"$error":"#NUM!"}]
[107,"2009-11-01",{"$error":"#NUM!"},{"$error":"#NUM!"},{"$error":"#NUM!"},{"$error":"#NUM!"},{"$error":"#NUM!"},{"$error":"#NUM!"}]
[108,"2009-12-01",{"$error":"#NUM!"},{"$error":"#NUM!"},{"$error":"#NUM!"},{"$error":"#NUM!"},{"$error":"#NUM!"},{"$error":"#NUM!"}]
[109,"2010-01-01",{"$error":"#NUM!"},{"$error":"#NUM!"},{"$error":"#NUM!"},{"$error":"#NUM!"},{"$error":"#NUM!"},{"$error":"#NUM!"}]
[110,"2010-02-01",{"$error":"#NUM!"},{"$error":"#NUM!"},{"$error":"#NUM!"},{"$error":"#NUM!"},{"$error":"#NUM!"},{"$error":"#NUM!"}]
[111,"2010-03-01",{"$error":"#NUM!"},{"$error":"#NUM!"},{"$error":"#NUM!"},{"$error":"#NUM!"},{"$error":"#NUM!"},{"$error":"#NUM!"}]
[112,"2010-04-01",{"$error":"#NUM!"},{"$error":"#NUM!"},{"$error":"#NUM!"},{"$error":"#NUM!"},{"$error":"#NUM!"},{"$error":"#NUM!"}]
[113,"2010-05-01",{"$error":"#NUM!"},{"$error":"#NUM!"},{"$error":"#NUM!"},{"$error":"#NUM!"},{"$error":"#NUM!"},{"$error":"#NUM!"}]
[114,"2010-06-01",{"$error":"#NUM!"},{"$error":"#NUM!"},{"$error":"#NUM!"},{"$error":"#NUM!"},{"$error":"#NUM!"},{"$error":"#NUM!"}]
[115,"2010-07-01",{"$error":"#NUM!"},{"$error":"#NUM!"},{"$error":"#NUM!"},{"$error":"#NUM!"},{"$error":"#NUM!"},{"$error":"#NUM!"}]
[116,"2010-08-01",{"$error":"#NUM!"},{"$error":"#NUM!"},{"$error":"#NUM!"},{"$error":"#NUM!"},{"$error":"#NUM!"},{"$error":"#NUM!"}]
[117,"2010-09-01",{"$error":"#NUM!"},{"$error":"#NUM!"},{"$error":"#NUM!"},{"$error":"#NUM!"},{"$error":"#NUM!"},{"$error":"#NUM!"}]
[118,"2010-10-01",{"$error":"#NUM!"},{"$error":"#NUM!"},{"$error":"#NUM!"},{"$error":"#NUM!"},{"$error":"#NUM!"},{"$error":"#NUM!"}]
[119,"2010-11-01",{"$error":"#NUM!"},{"$error":"#NUM!"},{"$error":"#NUM!"},{"$error":"#NUM!"},{"$error":"#NUM!"},{"$error":"#NUM!"}]
[120,"2010-12-01",{"$error":"#NUM!"},{"$error":"#NUM!"},{"$error":"#NUM!"},{"$error":"#NUM!"},{"$error":"#NUM!"},{"$error":"#NUM!"}]
[121,"2011-01-01",{"$f":"F126","v":{"$error":"#NUM!"}},{"$f":"C$3/F$3*C127","v":{"$error":"#NUM!"}},{"$f":"G$3-D127","v":{"$error":"#NUM!"}},{"$f":"C127-E127","v":{"$error":"#NUM!"}},{"$f":"G126+D127","v":{"$error":"#NUM!"}},{"$f":"D127+E127+H126","v":{"$error":"#NUM!"}}]
[122,"2011-02-01",{"$error":"#NUM!"},{"$error":"#NUM!"},{"$error":"#NUM!"},{"$error":"#NUM!"},{"$error":"#NUM!"},{"$error":"#NUM!"}]
[123,"2011-03-01",{"$error":"#NUM!"},{"$error":"#NUM!"},{"$error":"#NUM!"},{"$error":"#NUM!"},{"$error":"#NUM!"},{"$error":"#NUM!"}]
[124,"2011-04-01",{"$error":"#NUM!"},{"$error":"#NUM!"},{"$error":"#NUM!"},{"$error":"#NUM!"},{"$error":"#NUM!"},{"$error":"#NUM!"}]
[125,"2011-05-01",{"$error":"#NUM!"},{"$error":"#NUM!"},{"$error":"#NUM!"},{"$error":"#NUM!"},{"$error":"#NUM!"},{"$error":"#NUM!"}]
[126,"2011-06-01",{"$error":"#NUM!"},{"$error":"#NUM!"},{"$error":"#NUM!"},{"$error":"#NUM!"},{"$error":"#NUM!"},{"$error":"#NUM!"}]
[127,"2011-07-01",{"$error":"#NUM!"},{"$error":"#NUM!"},{"$error":"#NUM!"},{"$error":"#NUM!"},{"$error":"#NUM!"},{"$error":"#NUM!"}]
[128,"2011-08-01",{"$error":"#NUM!"},{"$error":"#NUM!"},{"$error":"#NUM!"},{"$error":"#NUM!"},{"$error":"#NUM!"},{"$error":"#NUM!"}]
[129,"2011-09-01",{"$error":"#NUM!"},{"$error":"#NUM!"},{"$error":"#NUM!"},{"$error":"#NUM!"},{"$error":"#NUM!"},{"$error":"#NUM!"}]
[{"$f":"A135+1","v":130},{"$f":"DATE((YEAR(B135)-1900),MONTH(B135)+1,1)","v":"2011-10-01"},{"$error":"#NUM!"},{"$error":"#NUM!"},{"$error":"#NUM!"},{"$error":"#NUM!"},{"$error":"#NUM!"},{"$error":"#NUM!"}]
[131,"2011-11-01",{"$error":"#NUM!"},{"$error":"#NUM!"},{"$error":"#NUM!"},{"$error":"#NUM!"},{"$error":"#NUM!"},{"$error":"#NUM!"}]
[132,"2011-12-01",{"$error":"#NUM!"},{"$error":"#NUM!"},{"$error":"#NUM!"},{"$error":"#NUM!"},{"$error":"#NUM!"},{"$error":"#NUM!"}]
[133,"2012-01-01",{"$error":"#NUM!"},{"$error":"#NUM!"},{"$error":"#NUM!"},{"$error":"#NUM!"},{"$error":"#NUM!"},{"$error":"#NUM!"}]
[134,"2012-02-01",{"$error":"#NUM!"},{"$error":"#NUM!"},{"$error":"#NUM!"},{"$error":"#NUM!"},{"$error":"#NUM!"},{"$error":"#NUM!"}]
[135,"2012-03-01",{"$error":"#NUM!"},{"$error":"#NUM!"},{"$error":"#NUM!"},{"$error":"#NUM!"},{"$error":"#NUM!"},{"$error":"#NUM!"}]
[136,"2012-04-01",{"$error":"#NUM!"},{"$error":"#NUM!"},{"$error":"#NUM!"},{"$error":"#NUM!"},{"$error":"#NUM!"},{"$error":"#NUM!"}]
[137,"2012-05-01",{"$error":"#NUM!"},{"$error":"#NUM!"},{"$error":"#NUM!"},{"$error":"#NUM!"},{"$error":"#NUM!"},{"$error":"#NUM!"}]
[138,"2012-06-01",{"$error":"#NUM!"},{"$error":"#NUM!"},{"$error":"#NUM!"},{"$error":"#NUM!"},{"$error":"#NUM!"},{"$error":"#NUM!"}]
[139,"2012-07-01",{"$error":"#NUM!"},{"$error":"#NUM!"},{"$error":"#NUM!"},{"$error":"#NUM!"},{"$error":"#NUM!"},{"$error":"#NUM!"}]
[140,"2012-08-01",{"$error":"#NUM!"},{"$error":"#NUM!"},{"$error":"#NUM!"},{"$error":"#NUM!"},{"$error":"#NUM!"},{"$error":"#NUM!"}]
[141,"2012-09-01",{"$error":"#NUM!"},{"$error":"#NUM!"},{"$error":"#NUM!"},{"$error":"#NUM!"},{"$error":"#NUM!"},{"$error":"#NUM!"}]
[142,"2012-10-01",{"$error":"#NUM!"},{"$error":"#NUM!"},{"$error":"#NUM!"},{"$error":"#NUM!"},{"$error":"#NUM!"},{"$error":"#NUM!"}]
[143,"2012-11-01",{"$error":"#NUM!"},{"$error":"#NUM!"},{"$error":"#NUM!"},{"$error":"#NUM!"},{"$error":"#NUM!"},{"$error":"#NUM!"}]
[144,"2012-12-01",{"$error":"#NUM!"},{"$error":"#NUM!"},{"$error":"#NUM!"},{"$error":"#NUM!"},{"$error":"#NUM!"},{"$error":"#NUM!"}]
[145,"2013-01-01",{"$error":"#NUM!"},{"$error":"#NUM!"},{"$error":"#NUM!"},{"$error":"#NUM!"},{"$error":"#NUM!"},{"$error":"#NUM!"}]
[146,"2013-02-01",{"$error":"#NUM!"},{"$error":"#NUM!"},{"$error":"#NUM!"},{"$error":"#NUM!"},{"$error":"#NUM!"},{"$error":"#NUM!"}]
[147,"2013-03-01",{"$error":"#NUM!"},{"$error":"#NUM!"},{"$error":"#NUM!"},{"$error":"#NUM!"},{"$error":"#NUM!"},{"$error":"#NUM!"}]
[148,"2013-04-01",{"$error":"#NUM!"},{"$error":"#NUM!"},{"$error":"#NUM!"},{"$error":"#NUM!"},{"$error":"#NUM!"},{"$error":"#NUM!"}]
[149,"2013-05-01",{"$error":"#NUM!"},{"$error":"#NUM!"},{"$error":"#NUM!"},{"$error":"#NUM!"},{"$error":"#NUM!"},{"$error":"#NUM!"}]
[150,"2013-06-01",{"$error":"#NUM!"},{"$error":"#NUM!"},{"$error":"#NUM!"},{"$error":"#NUM!"},{"$error":"#NUM!"},{"$error":"#NUM!"}]
[151,"2013-07-01",{"$error":"#NUM!"},{"$error":"#NUM!"},{"$error":"#NUM!"},{"$error":"#NUM!"},{"$error":"#NUM!"},{"$error":"#NUM!"}]
[152,"2013-08-01",{"$error":"#NUM!"},{"$error":"#NUM!"},{"$error":"#NUM!"},{"$error":"#NUM!"},{"$error":"#NUM!"},{"$error":"#NUM!"}]
[153,"2013-09-01",{"$error":"#NUM!"},{"$error":"#NUM!"},{"$error":"#NUM!"},{"$error":"#NUM!"},{"$error":"#NUM!"},{"$error":"#NUM!"}]
[154,"2013-10-01",{"$error":"#NUM!"},{"$error":"#NUM!"},{"$error":"#NUM!"},{"$error":"#NUM!"},{"$error":"#NUM!"},{"$error":"#NUM!"}]
[155,"2013-11-01",{"$error":"#NUM!"},{"$error":"#NUM!"},{"$error":"#NUM!"},{"$error":"#NUM!"},{"$error":"#NUM!"},{"$error":"#NUM!"}]
[156,"2013-12-01",{"$error":"#NUM!"},{"$error":"#NUM!"},{"$error":"#NUM!"},{"$error":"#NUM!"},{"$error":"#NUM!"},{"$error":"#NUM!"}]
[157,"2014-01-01",{"$error":"#NUM!"},{"$error":"#NUM!"},{"$error":"#NUM!"},{"$error":"#NUM!"},{"$error":"#NUM!"},{"$error":"#NUM!"}]
[158,"2014-02-01",{"$error":"#NUM!"},{"$error":"#NUM!"},{"$error":"#NUM!"},{"$error":"#NUM!"},{"$error":"#NUM!"},{"$error":"#NUM!"}]
[159,"2014-03-01",{"$error":"#NUM!"},{"$error":"#NUM!"},{"$error":"#NUM!"},{"$error":"#NUM!"},{"$error":"#NUM!"},{"$error":"#NUM!"}]
[160,"2014-04-01",{"$error":"#NUM!"},{"$error":"#NUM!"},{"$error":"#NUM!"},{"$error":"#NUM!"},{"$error":"#NUM!"},{"$error":"#NUM!"}]
[161,"2014-05-01",{"$error":"#NUM!"},{"$error":"#NUM!"},{"$error":"#NUM!"},{"$error":"#NUM!"},{"$error":"#NUM!"},{"$error":"#NUM!"}]
[162,"2014-06-01",{"$error":"#NUM!"},{"$error":"#NUM!"},{"$error":"#NUM!"},{"$error":"#NUM!"},{"$error":"#NUM!"},{"$error":"#NUM!"}]
[163,"2014-07-01",{"$error":"#NUM!"},{"$error":"#NUM!"},{"$error":"#NUM!"},{"$error":"#NUM!"},{"$error":"#NUM!"},{"$error":"#NUM!"}]
[164,"2014-08-01",{"$error":"#NUM!"},{"$error":"#NUM!"},{"$error":"#NUM!"},{"$error":"#NUM!"},{"$error":"#NUM!"},{"$error":"#NUM!"}]
[165,"2014-09-01",{"$error":"#NUM!"},{"$error":"#NUM!"},{"$error":"#NUM!"},{"$error":"#NUM!"},{"$error":"#NUM!"},{"$error":"#NUM!"}]
[166,"2014-10-01",{"$error":"#NUM!"},{"$error":"#NUM!"},{"$error":"#NUM!"},{"$error":"#NUM!"},{"$error":"#NUM!"},{"$error":"#NUM!"}]
[167,"2014-11-01",{"$error":"#NUM!"},{"$error":"#NUM!"},{"$error":"#NUM!"},{"$error":"#NUM!"},{"$error":"#NUM!"},{"$error":"#NUM!"}]
[168,"2014-12-01",{"$error":"#NUM!"},{"$error":"#NUM!"},{"$error":"#NUM!"},{"$error":"#NUM!"},{"$error":"#NUM!"},{"$error":"#NUM!"}]
[169,"2015-01-01",{"$error":"#NUM!"},{"$error":"#NUM!"},{"$error":"#NUM!"},{"$error":"#NUM!"},{"$error":"#NUM!"},{"$error":"#NUM!"}]
[170,"2015-02-01",{"$error":"#NUM!"},{"$error":"#NUM!"},{"$error":"#NUM!"},{"$error":"#NUM!"},{"$error":"#NUM!"},{"$error":"#NUM!"}]
[171,"2015-03-01",{"$error":"#NUM!"},{"$error":"#NUM!"},{"$error":"#NUM!"},{"$error":"#NUM!"},{"$error":"#NUM!"},{"$error":"#NUM!"}]
[172,"2015-04-01",{"$error":"#NUM!"},{"$error":"#NUM!"},{"$error":"#NUM!"},{"$error":"#NUM!"},{"$error":"#NUM!"},{"$error":"#NUM!"}]
[173,"2015-05-01",{"$error":"#NUM!"},{"$error":"#NUM!"},{"$error":"#NUM!"},{"$error":"#NUM!"},{"$error":"#NUM!"},{"$error":"#NUM!"}]
[174,"2015-06-01",{"$error":"#NUM!"},{"$error":"#NUM!"},{"$error":"#NUM!"},{"$error":"#NUM!"},{"$error":"#NUM!"},{"$error":"#NUM!"}]
[175,"2015-07-01",{"$error":"#NUM!"},{"$error":"#NUM!"},{"$error":"#NUM!"},{"$error":"#NUM!"},{"$error":"#NUM!"},{"$error":"#NUM!"}]
[176,"2015-08-01",{"$error":"#NUM!"},{"$error":"#NUM!"},{"$error":"#NUM!"},{"$error":"#NUM!"},{"$error":"#NUM!"},{"$error":"#NUM!"}]
[177,"2015-09-01",{"$error":"#NUM!"},{"$error":"#NUM!"},{"$error":"#NUM!"},{"$error":"#NUM!"},{"$error":"#NUM!"},{"$error":"#NUM!"}]
[178,"2015-10-01",{"$error":"#NUM!"},{"$error":"#NUM!"},{"$error":"#NUM!"},{"$error":"#NUM!"},{"$error":"#NUM!"},{"$error":"#NUM!"}]
[179,"2015-11-01",{"$error":"#NUM!"},{"$error":"#NUM!"},{"$error":"#NUM!"},{"$error":"#NUM!"},{"$error":"#NUM!"},{"$error":"#NUM!"}]
[180,"2015-12-01",{"$error":"#NUM!"},{"$error":"#NUM!"},{"$error":"#NUM!"},{"$error":"#NUM!"},{"$error":"#NUM!"},{"$error":"#NUM!"}]
[181,"2016-01-01",{"$error":"#NUM!"},{"$error":"#NUM!"},{"$error":"#NUM!"},{"$error":"#NUM!"},{"$error":"#NUM!"},{"$error":"#NUM!"}]
[182,"2016-02-01",{"$error":"#NUM!"},{"$error":"#NUM!"},{"$error":"#NUM!"},{"$error":"#NUM!"},{"$error":"#NUM!"},{"$error":"#NUM!"}]
[183,"2016-03-01",{"$error":"#NUM!"},{"$error":"#NUM!"},{"$error":"#NUM!"},{"$error":"#NUM!"},{"$error":"#NUM!"},{"$error":"#NUM!"}]
[184,"2016-04-01",{"$error":"#NUM!"},{"$error":"#NUM!"},{"$error":"#NUM!"},{"$error":"#NUM!"},{"$error":"#NUM!"},{"$error":"#NUM!"}]
[185,"2016-05-01",{"$f":"F190","v":{"$error":"#NUM!"}},{"$f":"C$3/F$3*C191","v":{"$error":"#NUM!"}},{"$f":"G$3-D191","v":{"$error":"#NUM!"}},{"$f":"C191-E191","v":{"$error":"#NUM!"}},{"$f":"G190+D191","v":{"$error":"#NUM!"}},{"$f":"D191+E191+H190","v":{"$error":"#NUM!"}}]
[186,"2016-06-01",{"$error":"#NUM!"},{"$error":"#NUM!"},{"$error":"#NUM!"},{"$error":"#NUM!"},{"$error":"#NUM!"},{"$error":"#NUM!"}]
[187,"2016-07-01",{"$error":"#NUM!"},{"$error":"#NUM!"},{"$error":"#NUM!"},{"$error":"#NUM!"},{"$error":"#NUM!"},{"$error":"#NUM!"}]
[188,"2016-08-01",{"$error":"#NUM!"},{"$error":"#NUM!"},{"$error":"#NUM!"},{"$error":"#NUM!"},{"$error":"#NUM!"},{"$error":"#NUM!"}]
[189,"2016-09-01",{"$error":"#NUM!"},{"$error":"#NUM!"},{"$error":"#NUM!"},{"$error":"#NUM!"},{"$error":"#NUM!"},{"$error":"#NUM!"}]
[190,"2016-10-01",{"$error":"#NUM!"},{"$error":"#NUM!"},{"$error":"#NUM!"},{"$error":"#NUM!"},{"$error":"#NUM!"},{"$error":"#NUM!"}]
[191,"2016-11-01",{"$error":"#NUM!"},{"$error":"#NUM!"},{"$error":"#NUM!"},{"$error":"#NUM!"},{"$error":"#NUM!"},{"$error":"#NUM!"}]
[192,"2016-12-01",{"$error":"#NUM!"},{"$error":"#NUM!"},{"$error":"#NUM!"},{"$error":"#NUM!"},{"$error":"#NUM!"},{"$error":"#NUM!"}]
[193,"2017-01-01",{"$error":"#NUM!"},{"$error":"#NUM!"},{"$error":"#NUM!"},{"$error":"#NUM!"},{"$error":"#NUM!"},{"$error":"#NUM!"}]
[{"$f":"A199+1","v":194},{"$f":"DATE((YEAR(B199)-1900),MONTH(B199)+1,1)","v":"2017-02-01"},{"$error":"#NUM!"},{"$error":"#NUM!"},{"$error":"#NUM!"},{"$error":"#NUM!"},{"$error":"#NUM!"},{"$error":"#NUM!"}]
[195,"2017-03-01",{"$error":"#NUM!"},{"$error":"#NUM!"},{"$error":"#NUM!"},{"$error":"#NUM!"},{"$error":"#NUM!"},{"$error":"#NUM!"}]
[196,"2017-04-01",{"$error":"#NUM!"},{"$error":"#NUM!"},{"$error":"#NUM!"},{"$error":"#NUM!"},{"$error":"#NUM!"},{"$error":"#NUM!"}]
[197,"2017-05-01",{"$error":"#NUM!"},{"$error":"#NUM!"},{"$error":"#NUM!"},{"$error":"#NUM!"},{"$error":"#NUM!"},{"$error":"#NUM!"}]
[198,"2017-06-01",{"$error":"#NUM!"},{"$error":"#NUM!"},{"$error":"#NUM!"},{"$error":"#NUM!"},{"$error":"#NUM!"},{"$error":"#NUM!"}]
[199,"2017-07-01",{"$error":"#NUM!"},{"$error":"#NUM!"},{"$error":"#NUM!"},{"$error":"#NUM!"},{"$error":"#NUM!"},{"$error":"#NUM!"}]
[200,"2017-08-01",{"$error":"#NUM!"},{"$error":"#NUM!"},{"$error":"#NUM!"},{"$error":"#NUM!"},{"$error":"#NUM!"},{"$error":"#NUM!"}]
[201,"2017-09-01",{"$error":"#NUM!"},{"$error":"#NUM!"},{"$error":"#NUM!"},{"$error":"#NUM!"},{"$error":"#NUM!"},{"$error":"#NUM!"}]
[202,"2017-10-01",{"$error":"#NUM!"},{"$error":"#NUM!"},{"$error":"#NUM!"},{"$error":"#NUM!"},{"$error":"#NUM!"},{"$error":"#NUM!"}]
[203,"2017-11-01",{"$error":"#NUM!"},{"$error":"#NUM!"},{"$error":"#NUM!"},{"$error":"#NUM!"},{"$error":"#NUM!"},{"$error":"#NUM!"}]
[204,"2017-12-01",{"$error":"#NUM!"},{"$error":"#NUM!"},{"$error":"#NUM!"},{"$error":"#NUM!"},{"$error":"#NUM!"},{"$error":"#NUM!"}]
[205,"2018-01-01",{"$error":"#NUM!"},{"$error":"#NUM!"},{"$error":"#NUM!"},{"$error":"#NUM!"},{"$error":"#NUM!"},{"$error":"#NUM!"}]
[206,"2018-02-01",{"$error":"#NUM!"},{"$error":"#NUM!"},{"$error":"#NUM!"},{"$error":"#NUM!"},{"$error":"#NUM!"},{"$error":"#NUM!"}]
[207,"2018-03-01",{"$error":"#NUM!"},{"$error":"#NUM!"},{"$error":"#NUM!"},{"$error":"#NUM!"},{"$error":"#NUM!"},{"$error":"#NUM!"}]
[208,"2018-04-01",{"$error":"#NUM!"},{"$error":"#NUM!"},{"$error":"#NUM!"},{"$error":"#NUM!"},{"$error":"#NUM!"},{"$error":"#NUM!"}]
[209,"2018-05-01",{"$error":"#NUM!"},{"$error":"#NUM!"},{"$error":"#NUM!"},{"$error":"#NUM!"},{"$error":"#NUM!"},{"$error":"#NUM!"}]
[210,"2018-06-01",{"$error":"#NUM!"},{"$error":"#NUM!"},{"$error":"#NUM!"},{"$error":"#NUM!"},{"$error":"#NUM!"},{"$error":"#NUM!"}]
[211,"2018-07-01",{"$error":"#NUM!"},{"$error":"#NUM!"},{"$error":"#NUM!"},{"$error":"#NUM!"},{"$error":"#NUM!"},{"$error":"#NUM!"}]
[212,"2018-08-01",{"$error":"#NUM!"},{"$error":"#NUM!"},{"$error":"#NUM!"},{"$error":"#NUM!"},{"$error":"#NUM!"},{"$error":"#NUM!"}]
[213,"2018-09-01",{"$error":"#NUM!"},{"$error":"#NUM!"},{"$error":"#NUM!"},{"$error":"#NUM!"},{"$error":"#NUM!"},{"$error":"#NUM!"}]
[214,"2018-10-01",{"$error":"#NUM!"},{"$error":"#NUM!"},{"$error":"#NUM!"},{"$error":"#NUM!"},{"$error":"#NUM!"},{"$error":"#NUM!"}]
[215,"2018-11-01",{"$error":"#NUM!"},{"$error":"#NUM!"},{"$error":"#NUM!"},{"$error":"#NUM!"},{"$error":"#NUM!"},{"$error":"#NUM!"}]
[216,"2018-12-01",{"$error":"#NUM!"},{"$error":"#NUM!"},{"$error":"#NUM!"},{"$error":"#NUM!"},{"$error":"#NUM!"},{"$error":"#NUM!"}]
[217,"2019-01-01",{"$error":"#NUM!"},{"$error":"#NUM!"},{"$error":"#NUM!"},{"$error":"#NUM!"},{"$error":"#NUM!"},{"$error":"#NUM!"}]
[218,"2019-02-01",{"$error":"#NUM!"},{"$error":"#NUM!"},{"$error":"#NUM!"},{"$error":"#NUM!"},{"$error":"#NUM!"},{"$error":"#NUM!"}]
[219,"2019-03-01",{"$error":"#NUM!"},{"$error":"#NUM!"},{"$error":"#NUM!"},{"$error":"#NUM!"},{"$error":"#NUM!"},{"$error":"#NUM!"}]
[220,"2019-04-01",{"$error":"#NUM!"},{"$error":"#NUM!"},{"$error":"#NUM!"},{"$error":"#NUM!"},{"$error":"#NUM!"},{"$error":"#NUM!"}]
[221,"2019-05-01",{"$error":"#NUM!"},{"$error":"#NUM!"},{"$error":"#NUM!"},{"$error":"#NUM!"},{"$error":"#NUM!"},{"$error":"#NUM!"}]
[222,"2019-06-01",{"$error":"#NUM!"},{"$error":"#NUM!"},{"$error":"#NUM!"},{"$error":"#NUM!"},{"$error":"#NUM!"},{"$error":"#NUM!"}]
[223,"2019-07-01",{"$error":"#NUM!"},{"$error":"#NUM!"},{"$error":"#NUM!"},{"$error":"#NUM!"},{"$error":"#NUM!"},{"$error":"#NUM!"}]
[224,"2019-08-01",{"$error":"#NUM!"},{"$error":"#NUM!"},{"$error":"#NUM!"},{"$error":"#NUM!"},{"$error":"#NUM!"},{"$error":"#NUM!"}]
[225,"2019-09-01",{"$error":"#NUM!"},{"$error":"#NUM!"},{"$error":"#NUM!"},{"$error":"#NUM!"},{"$error":"#NUM!"},{"$error":"#NUM!"}]
[226,"2019-10-01",{"$error":"#NUM!"},{"$error":"#NUM!"},{"$error":"#NUM!"},{"$error":"#NUM!"},{"$error":"#NUM!"},{"$error":"#NUM!"}]
[227,"2019-11-01",{"$error":"#NUM!"},{"$error":"#NUM!"},{"$error":"#NUM!"},{"$error":"#NUM!"},{"$error":"#NUM!"},{"$error":"#NUM!"}]
[228,"2019-12-01",{"$error":"#NUM!"},{"$error":"#NUM!"},{"$error":"#NUM!"},{"$error":"#NUM!"},{"$error":"#NUM!"},{"$error":"#NUM!"}]
[229,"2020-01-01",{"$error":"#NUM!"},{"$error":"#NUM!"},{"$error":"#NUM!"},{"$error":"#NUM!"},{"$error":"#NUM!"},{"$error":"#NUM!"}]
[230,"2020-02-01",{"$error":"#NUM!"},{"$error":"#NUM!"},{"$error":"#NUM!"},{"$error":"#NUM!"},{"$error":"#NUM!"},{"$error":"#NUM!"}]
[231,"2020-03-01",{"$error":"#NUM!"},{"$error":"#NUM!"},{"$error":"#NUM!"},{"$error":"#NUM!"},{"$error":"#NUM!"},{"$error":"#NUM!"}]
[232,"2020-04-01",{"$error":"#NUM!"},{"$error":"#NUM!"},{"$error":"#NUM!"},{"$error":"#NUM!"},{"$error":"#NUM!"},{"$error":"#NUM!"}]
[233,"2020-05-01",{"$error":"#NUM!"},{"$error":"#NUM!"},{"$error":"#NUM!"},{"$error":"#NUM!"},{"$error":"#NUM!"},{"$error":"#NUM!"}]
[234,"2020-06-01",{"$error":"#NUM!"},{"$error":"#NUM!"},{"$error":"#NUM!"},{"$error":"#NUM!"},{"$error":"#NUM!"},{"$error":"#NUM!"}]
[235,"2020-07-01",{"$error":"#NUM!"},{"$error":"#NUM!"},{"$error":"#NUM!"},{"$error":"#NUM!"},{"$error":"#NUM!"},{"$error":"#NUM!"}]
[236,"2020-08-01",{"$error":"#NUM!"},{"$error":"#NUM!"},{"$error":"#NUM!"},{"$error":"#NUM!"},{"$error":"#NUM!"},{"$error":"#NUM!"}]
[237,"2020-09-01",{"$error":"#NUM!"},{"$error":"#NUM!"},{"$error":"#NUM!"},{"$error":"#NUM!"},{"$error":"#NUM!"},{"$error":"#NUM!"}]
[238,"2020-10-01",{"$error":"#NUM!"},{"$error":"#NUM!"},{"$error":"#NUM!"},{"$error":"#NUM!"},{"$error":"#NUM!"},{"$error":"#NUM!"}]
[239,"2020-11-01",{"$error":"#NUM!"},{"$error":"#NUM!"},{"$error":"#NUM!"},{"$error":"#NUM!"},{"$error":"#NUM!"},{"$error":"#NUM!"}]
[240,"2020-12-01",{"$error":"#NUM!"},{"$error":"#NUM!"},{"$error":"#NUM!"},{"$error":"#NUM!"},{"$error":"#NUM!"},{"$error":"#NUM!"}]
[241,"2021-01-01",{"$error":"#NUM!"},{"$error":"#NUM!"},{"$error":"#NUM!"},{"$error":"#NUM!"},{"$error":"#NUM!"},{"$error":"#NUM!"}]
[242,"2021-02-01",{"$error":"#NUM!"},{"$error":"#NUM!"},{"$error":"#NUM!"},{"$error":"#NUM!"},{"$error":"#NUM!"},{"$error":"#NUM!"}]
[243,"2021-03-01",{"$error":"#NUM!"},{"$error":"#NUM!"},{"$error":"#NUM!"},{"$error":"#NUM!"},{"$error":"#NUM!"},{"$error":"#NUM!"}]
[244,"2021-04-01",{"$error":"#NUM!"},{"$error":"#NUM!"},{"$error":"#NUM!"},{"$error":"#NUM!"},{"$error":"#NUM!"},{"$error":"#NUM!"}]
[245,"2021-05-01",{"$error":"#NUM!"},{"$error":"#NUM!"},{"$error":"#NUM!"},{"$error":"#NUM!"},{"$error":"#NUM!"},{"$error":"#NUM!"}]
[246,"2021-06-01",{"$error":"#NUM!"},{"$error":"#NUM!"},{"$error":"#NUM!"},{"$error":"#NUM!"},{"$error":"#NUM!"},{"$error":"#NUM!"}]
[247,"2021-07-01",{"$error":"#NUM!"},{"$error":"#NUM!"},{"$error":"#NUM!"},{"$error":"#NUM!"},{"$error":"#NUM!"},{"$error":"#NUM!"}]
[248,"2021-08-01",{"$error":"#NUM!"},{"$error":"#NUM!"},{"$error":"#NUM!"},{"$error":"#NUM!"},{"$error":"#NUM!"},{"$error":"#NUM!"}]
[249,"2021-09-01",{"$f":"F254","v":{"$error":"#NUM!"}},{"$f":"C$3/F$3*C255","v":{"$error":"#NUM!"}},{"$f":"G$3-D255","v":{"$error":"#NUM!"}},{"$f":"C255-E255","v":{"$error":"#NUM!"}},{"$f":"G254+D255","v":{"$error":"#NUM!"}},{"$f":"D255+E255+H254","v":{"$error":"#NUM!"}}]
[250,"2021-10-01",{"$error":"#NUM!"},{"$error":"#NUM!"},{"$error":"#NUM!"},{"$error":"#NUM!"},{"$error":"#NUM!"},{"$error":"#NUM!"}]
[251,"2021-11-01",{"$error":"#NUM!"},{"$error":"#NUM!"},{"$error":"#NUM!"},{"$error":"#NUM!"},{"$error":"#NUM!"},{"$error":"#NUM!"}]
[252,"2021-12-01",{"$error":"#NUM!"},{"$error":"#NUM!"},{"$error":"#NUM!"},{"$error":"#NUM!"},{"$error":"#NUM!"},{"$error":"#NUM!"}]
[253,"2022-01-01",{"$error":"#NUM!"},{"$error":"#NUM!"},{"$error":"#NUM!"},{"$error":"#NUM!"},{"$error":"#NUM!"},{"$error":"#NUM!"}]
[254,"2022-02-01",{"$error":"#NUM!"},{"$error":"#NUM!"},{"$error":"#NUM!"},{"$error":"#NUM!"},{"$error":"#NUM!"},{"$error":"#NUM!"}]
[255,"2022-03-01",{"$error":"#NUM!"},{"$error":"#NUM!"},{"$error":"#NUM!"},{"$error":"#NUM!"},{"$error":"#NUM!"},{"$error":"#NUM!"}]
[256,"2022-04-01",{"$error":"#NUM!"},{"$error":"#NUM!"},{"$error":"#NUM!"},{"$error":"#NUM!"},{"$error":"#NUM!"},{"$error":"#NUM!"}]
[257,"2022-05-01",{"$error":"#NUM!"},{"$error":"#NUM!"},{"$error":"#NUM!"},{"$error":"#NUM!"},{"$error":"#NUM!"},{"$error":"#NUM!"}]
[{"$f":"A263+1","v":258},{"$f":"DATE((YEAR(B263)-1900),MONTH(B263)+1,1)","v":"2022-06-01"},{"$error":"#NUM!"},{"$error":"#NUM!"},{"$error":"#NUM!"},{"$error":"#NUM!"},{"$error":"#NUM!"},{"$error":"#NUM!"}]
[259,"2022-07-01",{"$error":"#NUM!"},{"$error":"#NUM!"},{"$error":"#NUM!"},{"$error":"#NUM!"},{"$error":"#NUM!"},{"$error":"#NUM!"}]
[260,"2022-08-01",{"$error":"#NUM!"},{"$error":"#NUM!"},{"$error":"#NUM!"},{"$error":"#NUM!"},{"$error":"#NUM!"},{"$error":"#NUM!"}]
[261,"2022-09-01",{"$error":"#NUM!"},{"$error":"#NUM!"},{"$error":"#NUM!"},{"$error":"#NUM!"},{"$error":"#NUM!"},{"$error":"#NUM!"}]
[262,"2022-10-01",{"$error":"#NUM!"},{"$error":"#NUM!"},{"$error":"#NUM!"},{"$error":"#NUM!"},{"$error":"#NUM!"},{"$error":"#NUM!"}]
[263,"2022-11-01",{"$error":"#NUM!"},{"$error":"#NUM!"},{"$error":"#NUM!"},{"$error":"#NUM!"},{"$error":"#NUM!"},{"$error":"#NUM!"}]
[264,"2022-12-01",{"$error":"#NUM!"},{"$error":"#NUM!"},{"$error":"#NUM!"},{"$error":"#NUM!"},{"$error":"#NUM!"},{"$error":"#NUM!"}]
[265,"2023-01-01",{"$error":"#NUM!"},{"$error":"#NUM!"},{"$error":"#NUM!"},{"$error":"#NUM!"},{"$error":"#NUM!"},{"$error":"#NUM!"}]
[266,"2023-02-01",{"$error":"#NUM!"},{"$error":"#NUM!"},{"$error":"#NUM!"},{"$error":"#NUM!"},{"$error":"#NUM!"},{"$error":"#NUM!"}]
[267,"2023-03-01",{"$error":"#NUM!"},{"$error":"#NUM!"},{"$error":"#NUM!"},{"$error":"#NUM!"},{"$error":"#NUM!"},{"$error":"#NUM!"}]
[268,"2023-04-01",{"$error":"#NUM!"},{"$error":"#NUM!"},{"$error":"#NUM!"},{"$error":"#NUM!"},{"$error":"#NUM!"},{"$error":"#NUM!"}]
[269,"2023-05-01",{"$error":"#NUM!"},{"$error":"#NUM!"},{"$error":"#NUM!"},{"$error":"#NUM!"},{"$error":"#NUM!"},{"$error":"#NUM!"}]
[270,"2023-06-01",{"$error":"#NUM!"},{"$error":"#NUM!"},{"$error":"#NUM!"},{"$error":"#NUM!"},{"$error":"#NUM!"},{"$error":"#NUM!"}]
[271,"2023-07-01",{"$error":"#NUM!"},{"$error":"#NUM!"},{"$error":"#NUM!"},{"$error":"#NUM!"},{"$error":"#NUM!"},{"$error":"#NUM!"}]
[272,"2023-08-01",{"$error":"#NUM!"},{"$error":"#NUM!"},{"$error":"#NUM!"},{"$error":"#NUM!"},{"$error":"#NUM!"},{"$error":"#NUM!"}]
[273,"2023-09-01",{"$error":"#NUM!"},{"$error":"#NUM!"},{"$error":"#NUM!"},{"$error":"#NUM!"},{"$error":"#NUM!"},{"$error":"#NUM!"}]
[274,"2023-10-01",{"$error":"#NUM!"},{"$error":"#NUM!"},{"$error":"#NUM!"},{"$error":"#NUM!"},{"$error":"#NUM!"},{"$error":"#NUM!"}]
[275,"2023-11-01",{"$error":"#NUM!"},{"$error":"#NUM!"},{"$error":"#NUM!"},{"$error":"#NUM!"},{"$error":"#NUM!"},{"$error":"#NUM!"}]
[276,"2023-12-01",{"$error":"#NUM!"},{"$error":"#NUM!"},{"$error":"#NUM!"},{"$error":"#NUM!"},{"$error":"#NUM!"},{"$error":"#NUM!"}]
[277,"2024-01-01",{"$error":"#NUM!"},{"$error":"#NUM!"},{"$error":"#NUM!"},{"$error":"#NUM!"},{"$error":"#NUM!"},{"$error":"#NUM!"}]
[278,"2024-02-01",{"$error":"#NUM!"},{"$error":"#NUM!"},{"$error":"#NUM!"},{"$error":"#NUM!"},{"$error":"#NUM!"},{"$error":"#NUM!"}]
[279,"2024-03-01",{"$error":"#NUM!"},{"$error":"#NUM!"},{"$error":"#NUM!"},{"$error":"#NUM!"},{"$error":"#NUM!"},{"$error":"#NUM!"}]
[280,"2024-04-01",{"$error":"#NUM!"},{"$error":"#NUM!"},{"$error":"#NUM!"},{"$error":"#NUM!"},{"$error":"#NUM!"},{"$error":"#NUM!"}]
[281,"2024-05-01",{"$error":"#NUM!"},{"$error":"#NUM!"},{"$error":"#NUM!"},{"$error":"#NUM!"},{"$error":"#NUM!"},{"$error":"#NUM!"}]
[282,"2024-06-01",{"$error":"#NUM!"},{"$error":"#NUM!"},{"$error":"#NUM!"},{"$error":"#NUM!"},{"$error":"#NUM!"},{"$error":"#NUM!"}]
[283,"2024-07-01",{"$error":"#NUM!"},{"$error":"#NUM!"},{"$error":"#NUM!"},{"$error":"#NUM!"},{"$error":"#NUM!"},{"$error":"#NUM!"}]
[284,"2024-08-01",{"$error":"#NUM!"},{"$error":"#NUM!"},{"$error":"#NUM!"},{"$error":"#NUM!"},{"$error":"#NUM!"},{"$error":"#NUM!"}]
[285,"2024-09-01",{"$error":"#NUM!"},{"$error":"#NUM!"},{"$error":"#NUM!"},{"$error":"#NUM!"},{"$error":"#NUM!"},{"$error":"#NUM!"}]
[286,"2024-10-01",{"$error":"#NUM!"},{"$error":"#NUM!"},{"$error":"#NUM!"},{"$error":"#NUM!"},{"$error":"#NUM!"},{"$error":"#NUM!"}]
[287,"2024-11-01",{"$error":"#NUM!"},{"$error":"#NUM!"},{"$error":"#NUM!"},{"$error":"#NUM!"},{"$error":"#NUM!"},{"$error":"#NUM!"}]
[288,"2024-12-01",{"$error":"#NUM!"},{"$error":"#NUM!"},{"$error":"#NUM!"},{"$error":"#NUM!"},{"$error":"#NUM!"},{"$error":"#NUM!"}]
[289,"2025-01-01",{"$error":"#NUM!"},{"$error":"#NUM!"},{"$error":"#NUM!"},{"$error":"#NUM!"},{"$error":"#NUM!"},{"$error":"#NUM!"}]
[290,"2025-02-01",{"$error":"#NUM!"},{"$error":"#NUM!"},{"$error":"#NUM!"},{"$error":"#NUM!"},{"$error":"#NUM!"},{"$error":"#NUM!"}]
[291,"2025-03-01",{"$error":"#NUM!"},{"$error":"#NUM!"},{"$error":"#NUM!"},{"$error":"#NUM!"},{"$error":"#NUM!"},{"$error":"#NUM!"}]
[292,"2025-04-01",{"$error":"#NUM!"},{"$error":"#NUM!"},{"$error":"#NUM!"},{"$error":"#NUM!"},{"$error":"#NUM!"},{"$error":"#NUM!"}]
[293,"2025-05-01",{"$error":"#NUM!"},{"$error":"#NUM!"},{"$error":"#NUM!"},{"$error":"#NUM!"},{"$error":"#NUM!"},{"$error":"#NUM!"}]
[294,"2025-06-01",{"$error":"#NUM!"},{"$error":"#NUM!"},{"$error":"#NUM!"},{"$error":"#NUM!"},{"$error":"#NUM!"},{"$error":"#NUM!"}]
[295,"2025-07-01",{"$error":"#NUM!"},{"$error":"#NUM!"},{"$error":"#NUM!"},{"$error":"#NUM!"},{"$error":"#NUM!"},{"$error":"#NUM!"}]
[296,"2025-08-01",{"$error":"#NUM!"},{"$error":"#NUM!"},{"$error":"#NUM!"},{"$error":"#NUM!"},{"$error":"#NUM!"},{"$error":"#NUM!"}]
[297,"2025-09-01",{"$error":"#NUM!"},{"$error":"#NUM!"},{"$error":"#NUM!"},{"$error":"#NUM!"},{"$error":"#NUM!"},{"$error":"#NUM!"}]
[298,"2025-10-01",{"$error":"#NUM!"},{"$error":"#NUM!"},{"$error":"#NUM!"},{"$error":"#NUM!"},{"$error":"#NUM!"},{"$error":"#NUM!"}]
[299,"2025-11-01",{"$error":"#NUM!"},{"$error":"#NUM!"},{"$error":"#NUM!"},{"$error":"#NUM!"},{"$error":"#NUM!"},{"$error":"#NUM!"}]
[300,"2025-12-01",{"$error":"#NUM!"},{"$error":"#NUM!"},{"$error":"#NUM!"},{"$error":"#NUM!"},{"$error":"#NUM!"},{"$error":"#NUM!"}]
[301,"2026-01-01",{"$error":"#NUM!"},{"$error":"#NUM!"},{"$error":"#NUM!"},{"$error":"#NUM!"},{"$error":"#NUM!"},{"$error":"#NUM!"}]
[302,"2026-02-01",{"$error":"#NUM!"},{"$error":"#NUM!"},{"$error":"#NUM!"},{"$error":"#NUM!"},{"$error":"#NUM!"},{"$error":"#NUM!"}]
[303,"2026-03-01",{"$error":"#NUM!"},{"$error":"#NUM!"},{"$error":"#NUM!"},{"$error":"#NUM!"},{"$error":"#NUM!"},{"$error":"#NUM!"}]
[304,"2026-04-01",{"$error":"#NUM!"},{"$error":"#NUM!"},{"$error":"#NUM!"},{"$error":"#NUM!"},{"$error":"#NUM!"},{"$error":"#NUM!"}]
[305,"2026-05-01",{"$error":"#NUM!"},{"$error":"#NUM!"},{"$error":"#NUM!"},{"$error":"#NUM!"},{"$error":"#NUM!"},{"$error":"#NUM!"}]
[306,"2026-06-01",{"$error":"#NUM!"},{"$error":"#NUM!"},{"$error":"#NUM!"},{"$error":"#NUM!"},{"$error":"#NUM!"},{"$error":"#NUM!"}]
[307,"2026-07-01",{"$error":"#NUM!"},{"$error":"#NUM!"},{"$error":"#NUM!"},{"$error":"#NUM!"},{"$error":"#NUM!"},{"$error":"#NUM!"}]
[308,"2026-08-01",{"$error":"#NUM!"},{"$error":"#NUM!"},{"$error":"#NUM!"},{"$error":"#NUM!"},{"$error":"#NUM!"},{"$error":"#NUM!"}]
[309,"2026-09-01",{"$error":"#NUM!"},{"$error":"#NUM!"},{"$error":"#NUM!"},{"$error":"#NUM!"},{"$error":"#NUM!"},{"$error":"#NUM!"}]
[310,"2026-10-01",{"$error":"#NUM!"},{"$error":"#NUM!"},{"$error":"#NUM!"},{"$error":"#NUM!"},{"$error":"#NUM!"},{"$error":"#NUM!"}]
[311,"2026-11-01",{"$error":"#NUM!"},{"$error":"#NUM!"},{"$error":"#NUM!"},{"$error":"#NUM!"},{"$error":"#NUM!"},{"$error":"#NUM!"}]
[312,"2026-12-01",{"$error":"#NUM!"},{"$error":"#NUM!"},{"$error":"#NUM!"},{"$error":"#NUM!"},{"$error":"#NUM!"},{"$error":"#NUM!"}]
[313,"2027-01-01",{"$f":"F318","v":{"$error":"#NUM!"}},{"$f":"C$3/F$3*C319","v":{"$error":"#NUM!"}},{"$f":"G$3-D319","v":{"$error":"#NUM!"}},{"$f":"C319-E319","v":{"$error":"#NUM!"}},{"$f":"G318+D319","v":{"$error":"#NUM!"}},{"$f":"D319+E319+H318","v":{"$error":"#NUM!"}}]
[314,"2027-02-01",{"$error":"#NUM!"},{"$error":"#NUM!"},{"$error":"#NUM!"},{"$error":"#NUM!"},{"$error":"#NUM!"},{"$error":"#NUM!"}]
[315,"2027-03-01",{"$error":"#NUM!"},{"$error":"#NUM!"},{"$error":"#NUM!"},{"$error":"#NUM!"},{"$error":"#NUM!"},{"$error":"#NUM!"}]
[316,"2027-04-01",{"$error":"#NUM!"},{"$error":"#NUM!"},{"$error":"#NUM!"},{"$error":"#NUM!"},{"$error":"#NUM!"},{"$error":"#NUM!"}]
[317,"2027-05-01",{"$error":"#NUM!"},{"$error":"#NUM!"},{"$error":"#NUM!"},{"$error":"#NUM!"},{"$error":"#NUM!"},{"$error":"#NUM!"}]
[318,"2027-06-01",{"$error":"#NUM!"},{"$error":"#NUM!"},{"$error":"#NUM!"},{"$error":"#NUM!"},{"$error":"#NUM!"},{"$error":"#NUM!"}]
[319,"2027-07-01",{"$error":"#NUM!"},{"$error":"#NUM!"},{"$error":"#NUM!"},{"$error":"#NUM!"},{"$error":"#NUM!"},{"$error":"#NUM!"}]
[320,"2027-08-01",{"$error":"#NUM!"},{"$error":"#NUM!"},{"$error":"#NUM!"},{"$error":"#NUM!"},{"$error":"#NUM!"},{"$error":"#NUM!"}]
[321,"2027-09-01",{"$error":"#NUM!"},{"$error":"#NUM!"},{"$error":"#NUM!"},{"$error":"#NUM!"},{"$error":"#NUM!"},{"$error":"#NUM!"}]
[{"$f":"A327+1","v":322},{"$f":"DATE((YEAR(B327)-1900),MONTH(B327)+1,1)","v":"2027-10-01"},{"$error":"#NUM!"},{"$error":"#NUM!"},{"$error":"#NUM!"},{"$error":"#NUM!"},{"$error":"#NUM!"},{"$error":"#NUM!"}]
[323,"2027-11-01",{"$error":"#NUM!"},{"$error":"#NUM!"},{"$error":"#NUM!"},{"$error":"#NUM!"},{"$error":"#NUM!"},{"$error":"#NUM!"}]
[324,"2027-12-01",{"$error":"#NUM!"},{"$error":"#NUM!"},{"$error":"#NUM!"},{"$error":"#NUM!"},{"$error":"#NUM!"},{"$error":"#NUM!"}]
[325,"2028-01-01",{"$error":"#NUM!"},{"$error":"#NUM!"},{"$error":"#NUM!"},{"$error":"#NUM!"},{"$error":"#NUM!"},{"$error":"#NUM!"}]
[326,"2028-02-01",{"$error":"#NUM!"},{"$error":"#NUM!"},{"$error":"#NUM!"},{"$error":"#NUM!"},{"$error":"#NUM!"},{"$error":"#NUM!"}]
[327,"2028-03-01",{"$error":"#NUM!"},{"$error":"#NUM!"},{"$error":"#NUM!"},{"$error":"#NUM!"},{"$error":"#NUM!"},{"$error":"#NUM!"}]
[328,"2028-04-01",{"$error":"#NUM!"},{"$error":"#NUM!"},{"$error":"#NUM!"},{"$error":"#NUM!"},{"$error":"#NUM!"},{"$error":"#NUM!"}]
[329,"2028-05-01",{"$error":"#NUM!"},{"$error":"#NUM!"},{"$error":"#NUM!"},{"$error":"#NUM!"},{"$error":"#NUM!"},{"$error":"#NUM!"}]
[330,"2028-06-01",{"$error":"#NUM!"},{"$error":"#NUM!"},{"$error":"#NUM!"},{"$error":"#NUM!"},{"$error":"#NUM!"},{"$error":"#NUM!"}]
[331,"2028-07-01",{"$error":"#NUM!"},{"$error":"#NUM!"},{"$error":"#NUM!"},{"$error":"#NUM!"},{"$error":"#NUM!"},{"$error":"#NUM!"}]
[332,"2028-08-01",{"$error":"#NUM!"},{"$error":"#NUM!"},{"$error":"#NUM!"},{"$error":"#NUM!"},{"$error":"#NUM!"},{"$error":"#NUM!"}]
[333,"2028-09-01",{"$error":"#NUM!"},{"$error":"#NUM!"},{"$error":"#NUM!"},{"$error":"#NUM!"},{"$error":"#NUM!"},{"$error":"#NUM!"}]
[334,"2028-10-01",{"$error":"#NUM!"},{"$error":"#NUM!"},{"$error":"#NUM!"},{"$error":"#NUM!"},{"$error":"#NUM!"},{"$error":"#NUM!"}]
[335,"2028-11-01",{"$error":"#NUM!"},{"$error":"#NUM!"},{"$error":"#NUM!"},{"$error":"#NUM!"},{"$error":"#NUM!"},{"$error":"#NUM!"}]
[336,"2028-12-01",{"$error":"#NUM!"},{"$error":"#NUM!"},{"$error":"#NUM!"},{"$error":"#NUM!"},{"$error":"#NUM!"},{"$error":"#NUM!"}]
[337,"2029-01-01",{"$error":"#NUM!"},{"$error":"#NUM!"},{"$error":"#NUM!"},{"$error":"#NUM!"},{"$error":"#NUM!"},{"$error":"#NUM!"}]
[338,"2029-02-01",{"$error":"#NUM!"},{"$error":"#NUM!"},{"$error":"#NUM!"},{"$error":"#NUM!"},{"$error":"#NUM!"},{"$error":"#NUM!"}]
[339,"2029-03-01",{"$error":"#NUM!"},{"$error":"#NUM!"},{"$error":"#NUM!"},{"$error":"#NUM!"},{"$error":"#NUM!"},{"$error":"#NUM!"}]
[340,"2029-04-01",{"$error":"#NUM!"},{"$error":"#NUM!"},{"$error":"#NUM!"},{"$error":"#NUM!"},{"$error":"#NUM!"},{"$error":"#NUM!"}]
[341,"2029-05-01",{"$error":"#NUM!"},{"$error":"#NUM!"},{"$error":"#NUM!"},{"$error":"#NUM!"},{"$error":"#NUM!"},{"$error":"#NUM!"}]
[342,"2029-06-01",{"$error":"#NUM!"},{"$error":"#NUM!"},{"$error":"#NUM!"},{"$error":"#NUM!"},{"$error":"#NUM!"},{"$error":"#NUM!"}]
[343,"2029-07-01",{"$error":"#NUM!"},{"$error":"#NUM!"},{"$error":"#NUM!"},{"$error":"#NUM!"},{"$error":"#NUM!"},{"$error":"#NUM!"}]
[344,"2029-08-01",{"$error":"#NUM!"},{"$error":"#NUM!"},{"$error":"#NUM!"},{"$error":"#NUM!"},{"$error":"#NUM!"},{"$error":"#NUM!"}]
[345,"2029-09-01",{"$error":"#NUM!"},{"$error":"#NUM!"},{"$error":"#NUM!"},{"$error":"#NUM!"},{"$error":"#NUM!"},{"$error":"#NUM!"}]
[346,"2029-10-01",{"$error":"#NUM!"},{"$error":"#NUM!"},{"$error":"#NUM!"},{"$error":"#NUM!"},{"$error":"#NUM!"},{"$error":"#NUM!"}]
[347,"2029-11-01",{"$error":"#NUM!"},{"$error":"#NUM!"},{"$error":"#NUM!"},{"$error":"#NUM!"},{"$error":"#NUM!"},{"$error":"#NUM!"}]
[348,"2029-12-01",{"$error":"#NUM!"},{"$error":"#NUM!"},{"$error":"#NUM!"},{"$error":"#NUM!"},{"$error":"#NUM!"},{"$error":"#NUM!"}]
[349,"2030-01-01",{"$error":"#NUM!"},{"$error":"#NUM!"},{"$error":"#NUM!"},{"$error":"#NUM!"},{"$error":"#NUM!"},{"$error":"#NUM!"}]
[350,"2030-02-01",{"$error":"#NUM!"},{"$error":"#NUM!"},{"$error":"#NUM!"},{"$error":"#NUM!"},{"$error":"#NUM!"},{"$error":"#NUM!"}]
[351,"2030-03-01",{"$error":"#NUM!"},{"$error":"#NUM!"},{"$error":"#NUM!"},{"$error":"#NUM!"},{"$error":"#NUM!"},{"$error":"#NUM!"}]
[352,"2030-04-01",{"$error":"#NUM!"},{"$error":"#NUM!"},{"$error":"#NUM!"},{"$error":"#NUM!"},{"$error":"#NUM!"},{"$error":"#NUM!"}]
[353,"2030-05-01",{"$error":"#NUM!"},{"$error":"#NUM!"},{"$error":"#NUM!"},{"$error":"#NUM!"},{"$error":"#NUM!"},{"$error":"#NUM!"}]
[354,"2030-06-01",{"$error":"#NUM!"},{"$error":"#NUM!"},{"$error":"#NUM!"},{"$error":"#NUM!"},{"$error":"#NUM!"},{"$error":"#NUM!"}]
[355,"2030-07-01",{"$error":"#NUM!"},{"$error":"#NUM!"},{"$error":"#NUM!"},{"$error":"#NUM!"},{"$error":"#NUM!"},{"$error":"#NUM!"}]
[356,"2030-08-01",{"$error":"#NUM!"},{"$error":"#NUM!"},{"$error":"#NUM!"},{"$error":"#NUM!"},{"$error":"#NUM!"},{"$error":"#NUM!"}]
[357,"2030-09-01",{"$error":"#NUM!"},{"$error":"#NUM!"},{"$error":"#NUM!"},{"$error":"#NUM!"},{"$error":"#NUM!"},{"$error":"#NUM!"}]
[358,"2030-10-01",{"$error":"#NUM!"},{"$error":"#NUM!"},{"$error":"#NUM!"},{"$error":"#NUM!"},{"$error":"#NUM!"},{"$error":"#NUM!"}]
[359,"2030-11-01",{"$error":"#NUM!"},{"$error":"#NUM!"},{"$error":"#NUM!"},{"$error":"#NUM!"},{"$error":"#NUM!"},{"$error":"#NUM!"}]
[360,"2030-12-01",{"$error":"#NUM!"},{"$error":"#NUM!"},{"$error":"#NUM!"},{"$error":"#NUM!"},{"$error":"#NUM!"},{"$error":"#NUM!"}]

{"sheet":"Progressivo","index":2,"n_rows":32,"n_cols":7,"rows_kept":32,"cut":false,"hidden":false,"merged":[[0,1,1,1],[0,5,1,5],[19,2,19,3],[8,2,8,3],[9,2,9,3],[10,2,10,3],[11,2,11,3],[12,2,12,3],[14,2,14,3],[15,2,15,3],[16,2,16,3],[17,2,17,3],[18,2,18,3],[30,2,30,3],[31,2,31,3],[20,2,20,3],[21,2,21,3],[22,2,22,3],[23,2,23,3],[24,2,24,3],[25,2,25,3],[26,2,26,3],[27,2,27,3],[28,2,28,3],[29,2,29,3],[0,6,1,6],[13,2,13,3],[2,2,2,3],[3,2,3,3],[4,2,4,3],[5,2,5,3],[6,2,6,3],[7,2,7,3],[0,2,1,3]]}
[null,"RIFERIMENTO","RATE PROGRESSIVE",null,null,"RIFERIMENTO","CAPITALE ANNUO"]
[]
[null,"anno1",{"$f":"Foglio1!E19+Foglio1!E18","v":0},null,null,"anno1",{"$f":"SUMIF(Ammortamento!E7:E18,\">0\")","v":0}]
[null,"anno2",{"$f":"Foglio1!F19+Foglio1!F18","v":0},null,null,"anno2",{"$f":"SUMIF(Ammortamento!E19:E30,\">0\")","v":0}]
[null,"anno3",{"$f":"Foglio1!G19+Foglio1!G18","v":0},null,null,"anno3",{"$f":"SUMIF(Ammortamento!E31:E42,\">0\")","v":0}]
[null,"anno4",{"$f":"Foglio1!H19+Foglio1!H18","v":0},null,null,"anno4",{"$f":"SUMIF(Ammortamento!E43:E54,\">0\")","v":0}]
[null,"anno5",{"$f":"Foglio1!I19+Foglio1!I18","v":0},null,null,"anno5",{"$f":"SUMIF(Ammortamento!E55:E66,\">0\")","v":0}]
[null,"anno6",{"$f":"Foglio1!J19+Foglio1!J18","v":0},null,null,"anno6",{"$f":"SUMIF(Ammortamento!E67:E78,\">0\")","v":0}]
[null,"anno7",{"$f":"Foglio1!E26+Foglio1!E25","v":0},null,null,"anno7",{"$f":"SUMIF(Ammortamento!E79:E90,\">0\")","v":0}]
[null,"anno8",{"$f":"Foglio1!F26+Foglio1!F25","v":0},null,null,"anno8",{"$f":"SUMIF(Ammortamento!E91:E102,\">0\")","v":0}]
[null,"anno9",{"$f":"Foglio1!G26+Foglio1!G25","v":0},null,null,"anno9",{"$f":"SUMIF(Ammortamento!E103:E114,\">0\")","v":0}]
[null,"anno10",{"$f":"Foglio1!H26+Foglio1!H25","v":0},null,null,"anno10",{"$f":"SUMIF(Ammortamento!E115:E126,\">0\")","v":0}]
[null,"anno11",{"$f":"Foglio1!I26+Foglio1!I25","v":0},null,null,"anno11",{"$f":"SUMIF(Ammortamento!E127:E138,\">0\")","v":0}]
[null,"anno12",{"$f":"Foglio1!J26+Foglio1!J25","v":0},null,null,"anno12",{"$f":"SUMIF(Ammortamento!E139:E150,\">0\")","v":0}]
[null,"anno13",{"$f":"Foglio1!E33+Foglio1!E32","v":0},null,null,"anno13",{"$f":"SUMIF(Ammortamento!E151:E162,\">0\")","v":0}]
[null,"anno14",{"$f":"Foglio1!F33+Foglio1!F32","v":0},null,null,"anno14",{"$f":"SUMIF(Ammortamento!E163:E174,\">0\")","v":0}]
[null,"anno15",{"$f":"Foglio1!G33+Foglio1!G32","v":0},null,null,"anno15",{"$f":"SUMIF(Ammortamento!E175:E186,\">0\")","v":0}]
[null,"anno16",{"$f":"Foglio1!H33+Foglio1!H32","v":0},null,null,"anno16",{"$f":"SUMIF(Ammortamento!E187:E198,\">0\")","v":0}]
[null,"anno17",{"$f":"Foglio1!I33+Foglio1!I32","v":0},null,null,"anno17",{"$f":"SUMIF(Ammortamento!E199:E210,\">0\")","v":0}]
[null,"anno18",{"$f":"Foglio1!J33+Foglio1!J32","v":0},null,null,"anno18",{"$f":"SUMIF(Ammortamento!E211:E222,\">0\")","v":0}]
[null,"anno19",{"$f":"Foglio1!E40+Foglio1!E39","v":0},null,null,"anno19",{"$f":"SUMIF(Ammortamento!E223:E234,\">0\")","v":0}]
[null,"anno20",{"$f":"Foglio1!F40+Foglio1!F39","v":0},null,null,"anno20",{"$f":"SUMIF(Ammortamento!E235:E246,\">0\")","v":0}]
[null,"anno21",{"$f":"Foglio1!G40+Foglio1!G39","v":0},null,null,"anno21",{"$f":"SUMIF(Ammortamento!E247:E258,\">0\")","v":0}]
[null,"anno22",{"$f":"Foglio1!H40+Foglio1!H39","v":0},null,null,"anno22",{"$f":"SUMIF(Ammortamento!E259:E270,\">0\")","v":0}]
[null,"anno23",{"$f":"Foglio1!I40+Foglio1!I39","v":0},null,null,"anno23",{"$f":"SUMIF(Ammortamento!E271:E282,\">0\")","v":0}]
[null,"anno24",{"$f":"Foglio1!J40+Foglio1!J39","v":0},null,null,"anno24",{"$f":"SUMIF(Ammortamento!E283:E294,\">0\")","v":0}]
[null,"anno25",{"$f":"Foglio1!E47+Foglio1!E46","v":0},null,null,"anno25",{"$f":"SUMIF(Ammortamento!E295:E306,\">0\")","v":0}]
[null,"anno26",{"$f":"Foglio1!F47+Foglio1!F46","v":0},null,null,"anno26",{"$f":"SUMIF(Ammortamento!E307:E318,\">0\")","v":0}]
[null,"anno27",{"$f":"Foglio1!G47+Foglio1!G46","v":0},null,null,"anno27",{"$f":"SUMIF(Ammortamento!E319:E330,\">0\")","v":0}]
[null,"anno28",{"$f":"Foglio1!H47+Foglio1!H46","v":0},null,null,"anno28",{"$f":"SUMIF(Ammortamento!E331:E342,\">0\")","v":0}]
[null,"anno29",{"$f":"Foglio1!I47+Foglio1!I46","v":0},null,null,"anno29",{"$f":"SUMIF(Ammortamento!E343:E354,\">0\")","v":0}]
[null,"anno30",{"$f":"Foglio1!J47+Foglio1!J46","v":0},null,null,"anno30",{"$f":"SUMIF(Ammortamento!E355:E366,\">0\")","v":0}]

{"sheet":"code","index":3,"n_rows":7,"n_cols":9,"rows_kept":7,"cut":false,"hidden":false,"merged":[]}
[]
[]
[]
[]
[]
[]
[null,null,null,null,null,null,null,null,"Foglio1!A1"]

{"sheet":"button","index":4,"n_rows":0,"n_cols":0,"rows_kept":0,"cut":false,"hidden":false,"merged":[]}